BEGIN:VCALENDAR
VERSION:2.0
PRODID:-//TV 1881 Altdorf e.V. - ECPv6.15.20//NONSGML v1.0//EN
CALSCALE:GREGORIAN
METHOD:PUBLISH
X-WR-CALNAME:TV 1881 Altdorf e.V.
X-ORIGINAL-URL:https://tv1881altdorf.de
X-WR-CALDESC:Veranstaltungen für TV 1881 Altdorf e.V.
REFRESH-INTERVAL;VALUE=DURATION:PT1H
X-Robots-Tag:noindex
X-PUBLISHED-TTL:PT1H
BEGIN:VTIMEZONE
TZID:Europe/Berlin
BEGIN:DAYLIGHT
TZOFFSETFROM:+0100
TZOFFSETTO:+0200
TZNAME:CEST
DTSTART:20240331T010000
END:DAYLIGHT
BEGIN:STANDARD
TZOFFSETFROM:+0200
TZOFFSETTO:+0100
TZNAME:CET
DTSTART:20241027T010000
END:STANDARD
BEGIN:DAYLIGHT
TZOFFSETFROM:+0100
TZOFFSETTO:+0200
TZNAME:CEST
DTSTART:20250330T010000
END:DAYLIGHT
BEGIN:STANDARD
TZOFFSETFROM:+0200
TZOFFSETTO:+0100
TZNAME:CET
DTSTART:20251026T010000
END:STANDARD
BEGIN:DAYLIGHT
TZOFFSETFROM:+0100
TZOFFSETTO:+0200
TZNAME:CEST
DTSTART:20260329T010000
END:DAYLIGHT
BEGIN:STANDARD
TZOFFSETFROM:+0200
TZOFFSETTO:+0100
TZNAME:CET
DTSTART:20261025T010000
END:STANDARD
END:VTIMEZONE
BEGIN:VEVENT
DTSTART;VALUE=DATE:20250907
DTEND;VALUE=DATE:20250908
DTSTAMP:20260423T034013
CREATED:20250119T162008Z
LAST-MODIFIED:20250119T162008Z
UID:19583-1757203200-1757289599@tv1881altdorf.de
SUMMARY:Nürnberger Halbmarathon
DESCRIPTION:
URL:https://tv1881altdorf.de/event/nuernberger-halbmarathon
END:VEVENT
BEGIN:VEVENT
DTSTART;TZID=Europe/Berlin:20250907T140000
DTEND;TZID=Europe/Berlin:20250907T163000
DTSTAMP:20260423T034013
CREATED:20250209T182206Z
LAST-MODIFIED:20250821T113016Z
UID:20011-1757253600-1757262600@tv1881altdorf.de
SUMMARY:Baseball – Game 10/12 – Homegames in Altdorf – Icesharks vs. Memmelsdorf Barons 2 + Unterwurmbach Red Sox
DESCRIPTION:Home­game Event im Alt­dorf Ice­sharks Ball­park hin­ter der Mit­telschule/Leib­niz-Gym­na­si­um\n \nAm Son­ntag\, den 7. Sep­tem­ber ab 12.00 Uhr emp­fan­gen die Alt­dorf Ice­sharks erst die Barons aus Mem­mels­dorf und ab 15.00 im Anschluss die Unter­wurm­bach Red Sox (Nach­hol­spiel). Ein Mega Base­ball Event hier in Altdorf. \nDas Game gegen die Red Sox war am 27. Juli ange­set­zt und fiel kurz vor Start buch­stäblich ins Wass­er. Kein guter Tag für den Base­ball. Umso glück­lich­er sind die Ice­sharks jet­zt\, dass es zusam­men mit den Red Sox gelang\, diesen Ter­min zu realisieren. \nWer also Lust auf Base­ball hat oder ein­fach mal ken­nen­ler­nen will\, sollte unbe­d­ingt am Son­ntag\, den 7. Sep­tem­ber ab 12.00 Uhr in Alt­dorf am Start sein. Es gibt leck­er Bur­ri­tos und mehr vom Foodtruck Don Bur­ri­to\, Mod­er­a­tion und mehr. Ein­tritt frei. \nPlay Ball! \n  \nIn der Lan­desklasse Base­ball Nord wer­den Sin­glegames über 7 Innings  (oder mit max­i­malem Zeitlim­it von 2\,5 Stun­den) gespielt. \n \n \n \nLinks: \nAktuelle Tabelle \nSpielplan 2025 \nMem­mels­dorf Barons Instagram\n  \n  \n \n  \n  \n  \n 
URL:https://tv1881altdorf.de/event/game-10-12
LOCATION:Altdorf Icesharks Ballpark hinter Mittelschule/Leibniz Gymnasium\, Schulstraße\, Altdorf\, Bayern\, 90518\, Deutschland
CATEGORIES:Baseball,Landesklasse Baseball Nord,Landesklasse Baseball Nord
ATTACH;FMTTYPE=image/jpeg:https://tv1881altdorf.de/wp-content/uploads/2024/02/IMG_5435_mod02_LR_WEBSITE_BEITRAG.jpg
END:VEVENT
BEGIN:VEVENT
DTSTART;TZID=Europe/Berlin:20250912T180000
DTEND;TZID=Europe/Berlin:20250912T200000
DTSTAMP:20260423T034013
CREATED:20250804T170536Z
LAST-MODIFIED:20250908T143952Z
UID:23424-1757700000-1757707200@tv1881altdorf.de
SUMMARY:Eröffnung des Mixed Fun Softballteams des TV Altdorf
DESCRIPTION:Eröff­nung des Mixed Fun Soft­ball­teams des TV Altdorf \nKomm vor­bei und pro­bier es aus! \nLei­h­hand­schuhe und ‑schläger sind vorhan­den. Von 16 bis 116 Jahren. Für alle offen. Keine Vorken­nt­nisse erforderlich.\nTVA Sport­park\, Heumannstraße Altdorf
URL:https://tv1881altdorf.de/event/eroeffnung-des-mixed-fun-softballteams-des-tva
LOCATION:Sportpark Altdorf
CATEGORIES:Baseball,Mixed Fun Softballteam
ATTACH;FMTTYPE=image/jpeg:https://tv1881altdorf.de/wp-content/uploads/2025/08/softball-2024-11-25-22-02-51-utc-scaled.jpg
END:VEVENT
BEGIN:VEVENT
DTSTART;TZID=Europe/Berlin:20250913T090000
DTEND;TZID=Europe/Berlin:20250913T190000
DTSTAMP:20260423T034013
CREATED:20250619T194517Z
LAST-MODIFIED:20250913T015011Z
UID:22419-1757754000-1757790000@tv1881altdorf.de
SUMMARY:Saisoneröffnung - Handballer
DESCRIPTION:
URL:https://tv1881altdorf.de/event/saisoneroeffnung-handballer
LOCATION:Grundschule Altdorf\, Hagenhausener Str. 5\, 90518 Altdorf bei Nürnberg\, Deutschland
CATEGORIES:Handball
END:VEVENT
BEGIN:VEVENT
DTSTART;VALUE=DATE:20250914
DTEND;VALUE=DATE:20250915
DTSTAMP:20260423T034013
CREATED:20250625T124608Z
LAST-MODIFIED:20250625T125034Z
UID:22567-1757808000-1757894399@tv1881altdorf.de
SUMMARY:8. Oberpfälzer Seenland Triathlon
DESCRIPTION:8. Oberpfälzer Seenland Triathlon am\n14.09.2025\nErlebe den Seen­land Triathlon im Flair der Stein­berg­er Kugel
URL:https://tv1881altdorf.de/event/8-oberpfaelzer-seenland-triathlon
LOCATION:In der Oder 7\, 92442 Steinberg am See\, In der Oder 7\, Steinberg am See\, Bayern\, 92442\, Germany
CATEGORIES:Triathlon
END:VEVENT
BEGIN:VEVENT
DTSTART;TZID=Europe/Berlin:20250914T140000
DTEND;TZID=Europe/Berlin:20250914T163000
DTSTAMP:20260423T034013
CREATED:20250209T182804Z
LAST-MODIFIED:20250821T101135Z
UID:20014-1757858400-1757867400@tv1881altdorf.de
SUMMARY:Baseball – Game 13 – Altdorf Icesharks vs. Niederlamitz Greens – Homegame in Altdorf
DESCRIPTION:Home­game Event im Alt­dorf Ice­sharks Ball­park hin­ter der Mit­telschule/Leib­niz-Gym­na­si­um\n \nAm Son­ntag\, den 14. Sep­tem­ber ab 14.00 Uhr emp­fan­gen Alt­dorf Ice­sharks die Greens aus Nieder­lamitz. In der Lan­desklasse Base­ball Nord wer­den Sin­glegames über 7 Innings  (oder mit max­i­malem Zeitlim­it von 2\,5 Stun­den) gespielt. \nWer also Lust auf Base­ball hat oder ein­fach mal ken­nen­ler­nen will\, sollte unbe­d­ingt am Son­ntag\, den 14. Sep­tem­ber ab 14.00 Uhr in Alt­dorf am Start sein. Es gibt leck­er Amer­i­can Style Hot Dogs und mehr vom Foodtruck DAWG STOP\, Mod­er­a­tion und mehr. Ein­tritt frei. \nPlay Ball! \n  \n  \n \nLinks: \nAktuelle Tabelle \nSpielplan 2025 \n\nNieder­lamitz Greens Instagram\n\n  \n  \n \n  \n  \n  \n 
URL:https://tv1881altdorf.de/event/game-13
LOCATION:Altdorf Icesharks Ballpark hinter Mittelschule/Leibniz Gymnasium\, Schulstraße\, Altdorf\, Bayern\, 90518\, Deutschland
CATEGORIES:Baseball,Landesklasse Baseball Nord,Landesklasse Baseball Nord
ATTACH;FMTTYPE=image/jpeg:https://tv1881altdorf.de/wp-content/uploads/2024/05/12_DSC09805_2000px-e1739126204819.jpg
END:VEVENT
BEGIN:VEVENT
DTSTART;TZID=Europe/Berlin:20250915T193000
DTEND;TZID=Europe/Berlin:20250915T203000
DTSTAMP:20260423T034013
CREATED:20250515T174245Z
LAST-MODIFIED:20250811T132826Z
UID:21709-1757964600-1757968200@tv1881altdorf.de
SUMMARY:Gesundheitsbelehrung z.B. für Verkauf / Veranstaltungen
DESCRIPTION:Hal­lo liebe engagierte Mitglieder\,\nwir bieten auch dieses Jahr wieder eine Gesund­heits­belehrung an.\nDie Gesund­heits­belehrung ist für jeden wichtig\, der sich beim Verkauf für den Vere­in ein­bringt und mit Lebens­mit­teln zu tun hat. Die Kosten übern­immt für Mit­glieder der Hauptverein. \nDies bet­rifft Abteilun­gen\, die während der kom­menden Sai­son Lebens­mit­teln verkaufen oder bei Ver­anstal­tun­gen z.B. Wei­h­nachts­markt / Alt­stadt­fest diese anbieten. \nDie Belehrung muss alle 2 Jahre von einem Facharzt durchge­führt\, diejeni­gen die 2024 bere­its eine Belehrung hat­ten\, bringe bitte diese Belehrung mit. Neue Teil­nehmer Anmel­dung über fol­gen­des For­mu­lar: https://forms.gle/oFdhNPG3Hk3hLfkv6\noder sollte sich jemand lieber per E‑Mail anmelden\, kann er das bei g.schneider@tv1881altdorf.de mit Anschrift und Geburt­stag tun. Am besten dann geschlossen über die Abteilungen. \nGer­hard Schneider \n 
URL:https://tv1881altdorf.de/event/gesundheitsbelehrung-z-b-fuer-verkauf-veranstaltungen
LOCATION:3‑fach-Turnhalle Grundschule\, Bleichanger 2\, Altdorf\, Bayern\, 90518\, Deutschland
CATEGORIES:Allgemein
END:VEVENT
BEGIN:VEVENT
DTSTART;TZID=Europe/Berlin:20250919T193000
DTEND;TZID=Europe/Berlin:20250919T213000
DTSTAMP:20260423T034013
CREATED:20250619T194518Z
LAST-MODIFIED:20250919T032010Z
UID:22420-1758310200-1758317400@tv1881altdorf.de
SUMMARY:Herbstversammlung Handballer
DESCRIPTION:
URL:https://tv1881altdorf.de/event/herbstversammlung-handballer
LOCATION:Gaststätte Sportpark\, Heumannstraße 5\, 90518 Altdorf bei Nürnberg\, Deutschland
CATEGORIES:Handball
END:VEVENT
BEGIN:VEVENT
DTSTART;VALUE=DATE:20250920
DTEND;VALUE=DATE:20250921
DTSTAMP:20260423T034013
CREATED:20250119T162008Z
LAST-MODIFIED:20250119T162008Z
UID:19584-1758326400-1758412799@tv1881altdorf.de
SUMMARY:Fürst Carl Seenlandmarathon
DESCRIPTION:
URL:https://tv1881altdorf.de/event/fuerst-carl-seenlandmarathon
END:VEVENT
BEGIN:VEVENT
DTSTART;TZID=Europe/Berlin:20250920T103000
DTEND;TZID=Europe/Berlin:20250920T140000
DTSTAMP:20260423T034013
CREATED:20250818T080735Z
LAST-MODIFIED:20250818T102307Z
UID:23715-1758364200-1758376800@tv1881altdorf.de
SUMMARY:Jugend Baseball Landesliga Nord (U15) – Altdorf Icesharks vs. Dachau Tigers – Homegame in Altdorf
DESCRIPTION:Play Ball – im Sportpark! \nAm Sam­stag\, den 12. Sep­tem­ber ab 10.30 Uhr emp­fan­gen die Alt­dorf Ice­sharks die Dachau Tigers. Start der Rück­runde. In der Jugend Base­ball Lan­desli­ga wer­den Dou­ble Head­er gespielt – zwei Spiele hin­tere­inan­der. Ein Spiel wird über 5 Innings gespielt oder mit max­i­malem Zeitlim­it von 1\,5 Stunden. \nSpielplan 2025 Rückrunde \naktuelle Tabelle \nMehr Infos
URL:https://tv1881altdorf.de/event/jugend-baseball-altdorf-icesharks-vs-freising-grizzlies-homegame-duplikat
LOCATION:Sportpark Altdorf
CATEGORIES:Baseball,Jugend Baseball Landesliga Nord (U15)
ATTACH;FMTTYPE=image/jpeg:https://tv1881altdorf.de/wp-content/uploads/2025/08/Bildschirmfoto-2025-08-18-um-10.54.01-scaled.jpg
END:VEVENT
BEGIN:VEVENT
DTSTART;TZID=Europe/Berlin:20250920T140000
DTEND;TZID=Europe/Berlin:20250920T153000
DTSTAMP:20260423T034013
CREATED:20250825T210511Z
LAST-MODIFIED:20250920T033510Z
UID:23905-1758376800-1758382200@tv1881altdorf.de
SUMMARY:Bezirksklasse Staffel West TV 1881 Altdorf II vs HSG Pyrbaum/Seligenporten III (24024001)
DESCRIPTION:Bezirk­sklasse Frauen Staffel West\nBegeg­nungs-Nr: 24024001\nHeim: TV 1881 Alt­dorf II\nGast: HSG Pyrbaum/Seligenporten III\nHalle: Alt­dorf\, Schul­turn­halle Grund­schule (neu) (240000)\nAdresse: Hagen­hausen­er Str. 5\, 90518 Altdorf
URL:https://tv1881altdorf.de/event/bezirksklasse-staffel-west-tv-1881-altdorf-ii-vs-hsg-pyrbaum-seligenporten-iii-24024001
LOCATION:Altdorf\, Schulturnhalle Grundschule (neu) (240000): Hagenhausener Str. 5\, 90518 Altdorf
CATEGORIES:Handball
END:VEVENT
BEGIN:VEVENT
DTSTART;TZID=Europe/Berlin:20250920T150000
DTEND;TZID=Europe/Berlin:20250920T173000
DTSTAMP:20260423T034013
CREATED:20250818T085743Z
LAST-MODIFIED:20250818T093200Z
UID:23743-1758380400-1758389400@tv1881altdorf.de
SUMMARY:Schüler Coach Pitch Nord (U10) – Altdorf Little Icesharks vs. Laufer Wölfe – Homegame in Altdorf
DESCRIPTION:Play Ball – im Sportpark! \nAm Sam­stag\, den 20. Sep­tem­ber ab 15.00 Uhr emp­fan­gen die Alt­dorf Lit­tle Ice­sharks die Laufer Wölfe. In der Schüler Coach Pitch Liga wer­den 5 Innings gespielt oder mit max­i­malem Zeitlim­it von 1 Stunde. Eine Tabelle wird bei den Kids nicht geführt. Spaß für alle garantiert – auf und neben dem Platz. \nSpielplan 2025 \nMehr Infos
URL:https://tv1881altdorf.de/event/jugend-baseball-altdorf-icesharks-vs-freising-grizzlies-homegame-duplikat-duplikat-duplikat-duplikat
LOCATION:Sportpark Altdorf
CATEGORIES:Baseball,Schüler Coach Pitch Nord (U10)
ATTACH;FMTTYPE=image/jpeg:https://tv1881altdorf.de/wp-content/uploads/2025/08/IMG_5348_mod02_Website-scaled.jpg
END:VEVENT
BEGIN:VEVENT
DTSTART;TZID=Europe/Berlin:20250920T160000
DTEND;TZID=Europe/Berlin:20250920T173000
DTSTAMP:20260423T034013
CREATED:20250825T210512Z
LAST-MODIFIED:20250925T085937Z
UID:23906-1758384000-1758389400@tv1881altdorf.de
SUMMARY:Handball: Bezirksoberliga TV 1881 Altdorf vs HV Oberviechtach (24022001)
DESCRIPTION:Bezirk­soberli­ga Frauen\nBegeg­nungs-Nr: 24022001\nHeim: TV 1881 Altdorf\nGast: HV Oberviechtach\nHalle: Alt­dorf\, Schul­turn­halle Grund­schule (neu) (240000)\nAdresse: Hagen­hausen­er Str. 5\, 90518 Altdorf
URL:https://tv1881altdorf.de/event/bezirksoberliga-tv-1881-altdorf-vs-hv-oberviechtach-24022001
LOCATION:Altdorf\, Schulturnhalle Grundschule (neu) (240000): Hagenhausener Str. 5\, 90518 Altdorf
CATEGORIES:Handball
END:VEVENT
BEGIN:VEVENT
DTSTART;TZID=Europe/Berlin:20250920T180000
DTEND;TZID=Europe/Berlin:20250920T193000
DTSTAMP:20260423T034013
CREATED:20250825T210512Z
LAST-MODIFIED:20250925T085934Z
UID:23907-1758391200-1758396600@tv1881altdorf.de
SUMMARY:Handball: Bezirksoberliga TV 1881 Altdorf vs HV Oberviechtach (24012002)
DESCRIPTION:Bezirk­soberli­ga Männer\nBegeg­nungs-Nr: 24012002\nHeim: TV 1881 Altdorf\nGast: HV Oberviechtach\nHalle: Alt­dorf\, Schul­turn­halle Grund­schule (neu) (240000)\nAdresse: Hagen­hausen­er Str. 5\, 90518 Altdorf
URL:https://tv1881altdorf.de/event/bezirksoberliga-tv-1881-altdorf-vs-hv-oberviechtach-24012002
LOCATION:Altdorf\, Schulturnhalle Grundschule (neu) (240000): Hagenhausener Str. 5\, 90518 Altdorf
CATEGORIES:Handball
END:VEVENT
BEGIN:VEVENT
DTSTART;TZID=Europe/Berlin:20250921T140000
DTEND;TZID=Europe/Berlin:20250921T163000
DTSTAMP:20260423T034013
CREATED:20250209T183337Z
LAST-MODIFIED:20250916T162405Z
UID:20017-1758463200-1758472200@tv1881altdorf.de
SUMMARY:Baseball – Game 14 – Altdorf Icesharks vs. Laub Raiders – The Playoff Battle in Altdorf
DESCRIPTION:Das Saison­fi­nale im Alt­dorf Ice­sharks Ball­park hin­ter der Mit­telschule/Leib­niz-Gym­na­si­um\n \nAm Son­ntag\, den 21. Sep­tem­ber ab 14.00 Uhr emp­fan­gen die Alt­dorf Ice­sharks die Laub Raiders – Bay­erisch­er Meis­ter Lan­desklasse 2022/2023. Das let­zte Spiel der Sai­son für die Ice­sharks. Der Gewin­ner dieser Begeg­nung wird als Tabellen Zweit­er in die Play­offs um die Bay­erische Meis­ter­schaft 2025 einziehen – entwed­er die Raiders oder die Icesharks. \nDie Aus­gangslage:\n• Die Laub Raiders ste­hen aktuell auf Platz 2\n• die Ice­sharks mit nur einem Punkt Rück­stand auf Platz 3\nWer das Spiel gewin­nt\, zieht mit den Erlan­gen White Sox – den Tabel­len­führer der Lan­desklasse Nord – in die Play­offs ein und trifft dort auf die zwei Topteams der Lan­desklasse Süd/Mitte. \nDas Hin­spiel kon­nten die Ice­sharks über­raschend aber ganz klar mit 26:1 am Anfang der Sai­son in Laub für sich entschei­den. Die Raiders sind bish­er im direk­ten Ver­gle­ich über die Jahre gese­hen das erfol­gre­ichere Team gewe­sen. So wer­den sich die Raiders auch für dieses Game sich­er einiges vornehmen und alles geben\, um diesen Loss wieder gutzu­machen. Die Ice­sharks fahren ihre kom­plette Pow­er hier in Alt­dorf auf\, um dieses Endgame gewin­nen zu kön­nen. Am besten mit Eur­er Unter­stützung an einem vielle­icht his­torischen Gameday. \nWer also Lust auf Base­ball hat oder ein­fach mal ken­nen­ler­nen will\, sollte unbe­d­ingt am Son­ntag\, den 21. Sep­tem­ber in Alt­dorf am Start sein. Es gibt leck­er Bur­ri­tos und mehr vom Foodtruck Don Bur­ri­to\, Mod­er­a­tion und mehr. Ein­tritt frei. \nPlay Ball! \nIn der Lan­desklasse Base­ball Nord wer­den Sin­glegames über 7 Innings  (oder mit max­i­malem Zeitlim­it von 2\,5 Stun­den) gespielt. \n  \n \n \n \n \n \n \n \n \nLinks: \nAktuelle Tabelle \nSpielplan 2025 \n\n\n\nLaub Raiders Website \nLaub Raiders Instagram \n\n\n\n  \n  \n \n  \n  \n  \n 
URL:https://tv1881altdorf.de/event/game-14
LOCATION:Altdorf Icesharks Ballpark hinter Mittelschule/Leibniz Gymnasium\, Schulstraße\, Altdorf\, Bayern\, 90518\, Deutschland
CATEGORIES:Baseball,Landesklasse Baseball Nord,Landesklasse Baseball Nord
ATTACH;FMTTYPE=image/jpeg:https://tv1881altdorf.de/wp-content/uploads/2025/06/icesharks_website_slider_052-scaled.jpg
END:VEVENT
BEGIN:VEVENT
DTSTART;TZID=Europe/Berlin:20250927T110000
DTEND;TZID=Europe/Berlin:20250927T133000
DTSTAMP:20260423T034013
CREATED:20250818T091126Z
LAST-MODIFIED:20250818T093801Z
UID:23748-1758970800-1758979800@tv1881altdorf.de
SUMMARY:Schüler Coach Pitch Nord (U10)  – Laufer Wölfe vs. Altdorf Little Icesharks – On the Road
DESCRIPTION:Am Sam­stag\, den 27. Sep­tem­ber ab 11.00 Uhr sind die Alt­dorf Lit­tle Ice­sharks U10 bei den Laufer Wölfen zu Gast. In der Schüler Coach Pitch Liga wer­den 5 Innings gespielt oder mit max­i­malem Zeitlim­it von 1 Stunde. Eine Tabelle wird bei den Kids nicht geführt. Spaß für alle garantiert – auf und neben dem Platz. \nSpielplan 2025 \nMehr Infos \n  \n  \n 
URL:https://tv1881altdorf.de/event/jugend-baseball-altdorf-icesharks-vs-ingolstadt-schanzer-duplikat-duplikat-duplikat
LOCATION:Laufer Wölfe Ballpark\, Am Haberloh 6\, Lauf\, Bayern\, 91207\, Germany
CATEGORIES:Baseball,Schüler Coach Pitch Nord (U10)
ATTACH;FMTTYPE=image/jpeg:https://tv1881altdorf.de/wp-content/uploads/2025/08/icesharks_website_slider_08_Little-Sharks_04.jpg
END:VEVENT
BEGIN:VEVENT
DTSTART;TZID=Europe/Berlin:20250927T120000
DTEND;TZID=Europe/Berlin:20250927T133000
DTSTAMP:20260423T034013
CREATED:20250825T210513Z
LAST-MODIFIED:20250927T052011Z
UID:23908-1758974400-1758979800@tv1881altdorf.de
SUMMARY:Bezirksliga Staffel West TV 1881 Altdorf II vs SV Buckenhofen (24013004)
DESCRIPTION:Bezirk­sli­ga Män­ner Staffel West\nBegeg­nungs-Nr: 24013004\nHeim: TV 1881 Alt­dorf II\nGast: SV Buckenhofen\nHalle: Alt­dorf\, Schul­turn­halle Grund­schule (neu) (240000)\nAdresse: Hagen­hausen­er Str. 5\, 90518 Altdorf
URL:https://tv1881altdorf.de/event/bezirksliga-staffel-west-tv-1881-altdorf-ii-vs-sv-buckenhofen-24013004
LOCATION:Altdorf\, Schulturnhalle Grundschule (neu) (240000): Hagenhausener Str. 5\, 90518 Altdorf
CATEGORIES:Handball
END:VEVENT
BEGIN:VEVENT
DTSTART;TZID=Europe/Berlin:20250927T130000
DTEND;TZID=Europe/Berlin:20250927T160000
DTSTAMP:20260423T034013
CREATED:20250818T082140Z
LAST-MODIFIED:20250818T085123Z
UID:23721-1758978000-1758988800@tv1881altdorf.de
SUMMARY:Jugend Baseball Landesliga Nord (U15)  – Memmelsdorf Barons vs. Altdorf Icesharks – On the Road
DESCRIPTION:Am Sam­stag\, den 27. Sep­tem­ber ab 13.00 Uhr sind die Alt­dorf Ice­sharks U15 bei den Mem­mels­dorf Barons zu Gast. In der Jugend Base­ball Lan­desli­ga wer­den Dou­ble Head­er gespielt – zwei Spiele hin­tere­inan­der. Ein Spiel wird über 5 Innings gespielt oder mit max­i­malem Zeitlim­it von 1\,5 Stunden. \n  \nSpielplan 2025 Rückrunde \naktuelle Tabelle \nMehr Infos \n  \n 
URL:https://tv1881altdorf.de/event/jugend-baseball-altdorf-icesharks-vs-ingolstadt-schanzer-duplikat
LOCATION:Memmelsdorf Barons Ballpark\, Pödeldorfer Str.\, Memmelsdorf\, 96117
CATEGORIES:Baseball,Jugend Baseball Landesliga Nord (U15)
ATTACH;FMTTYPE=image/jpeg:https://tv1881altdorf.de/wp-content/uploads/2025/08/Bildschirmfoto-2025-07-12-um-15.33.12-scaled.jpg
END:VEVENT
BEGIN:VEVENT
DTSTART;TZID=Europe/Berlin:20250927T140000
DTEND;TZID=Europe/Berlin:20250927T153000
DTSTAMP:20260423T034013
CREATED:20250825T210514Z
LAST-MODIFIED:20250927T052012Z
UID:23909-1758981600-1758987000@tv1881altdorf.de
SUMMARY:Bezirksklasse Staffel West TV 1881 Altdorf II vs SG DJK Erlangen/Baiersdorf (24024003)
DESCRIPTION:Bezirk­sklasse Frauen Staffel West\nBegeg­nungs-Nr: 24024003\nHeim: TV 1881 Alt­dorf II\nGast: SG DJK Erlangen/Baiersdorf\nHalle: Alt­dorf\, Schul­turn­halle Grund­schule (neu) (240000)\nAdresse: Hagen­hausen­er Str. 5\, 90518 Altdorf
URL:https://tv1881altdorf.de/event/bezirksklasse-staffel-west-tv-1881-altdorf-ii-vs-sg-djk-erlangen-baiersdorf-24024003
LOCATION:Altdorf\, Schulturnhalle Grundschule (neu) (240000): Hagenhausener Str. 5\, 90518 Altdorf
CATEGORIES:Handball
END:VEVENT
BEGIN:VEVENT
DTSTART;TZID=Europe/Berlin:20250927T164500
DTEND;TZID=Europe/Berlin:20250927T181500
DTSTAMP:20260423T034013
CREATED:20250825T210515Z
LAST-MODIFIED:20250927T052013Z
UID:23910-1758991500-1758996900@tv1881altdorf.de
SUMMARY:Bezirksoberliga HG Amberg  vs TV 1881 Altdorf (24022007)
DESCRIPTION:Bezirk­soberli­ga Frauen\nBegeg­nungs-Nr: 24022007\nHeim: HG Amberg\nGast: TV 1881 Altdorf\nHalle: Amberg\, Gre­gor-Mendel-Gym­na­si­um (240002)\nAdresse: Krum­bach­er Str. 2a\, 92224 Amberg
URL:https://tv1881altdorf.de/event/bezirksoberliga-hg-amberg-vs-tv-1881-altdorf-24022007
LOCATION:Amberg\, Gregor-Mendel-Gymnasium (240002): Krumbacher Str. 2a\, 92224 Amberg
CATEGORIES:Handball
END:VEVENT
BEGIN:VEVENT
DTSTART;TZID=Europe/Berlin:20250927T190000
DTEND;TZID=Europe/Berlin:20250927T203000
DTSTAMP:20260423T034013
CREATED:20250825T210515Z
LAST-MODIFIED:20250927T052014Z
UID:23911-1758999600-1759005000@tv1881altdorf.de
SUMMARY:Bezirksoberliga HG Amberg  vs TV 1881 Altdorf (24012010)
DESCRIPTION:Bezirk­soberli­ga Männer\nBegeg­nungs-Nr: 24012010\nHeim: HG Amberg\nGast: TV 1881 Altdorf\nHalle: Amberg\, Gre­gor-Mendel-Gym­na­si­um (240002)\nAdresse: Krum­bach­er Str. 2a\, 92224 Amberg
URL:https://tv1881altdorf.de/event/bezirksoberliga-hg-amberg-vs-tv-1881-altdorf-24012010
LOCATION:Amberg\, Gregor-Mendel-Gymnasium (240002): Krumbacher Str. 2a\, 92224 Amberg
CATEGORIES:Handball
END:VEVENT
END:VCALENDAR