BEGIN:VCALENDAR
VERSION:2.0
PRODID:-//TV 1881 Altdorf e.V. - ECPv6.15.20//NONSGML v1.0//EN
CALSCALE:GREGORIAN
METHOD:PUBLISH
X-WR-CALNAME:TV 1881 Altdorf e.V.
X-ORIGINAL-URL:https://tv1881altdorf.de
X-WR-CALDESC:Veranstaltungen für TV 1881 Altdorf e.V.
REFRESH-INTERVAL;VALUE=DURATION:PT1H
X-Robots-Tag:noindex
X-PUBLISHED-TTL:PT1H
BEGIN:VTIMEZONE
TZID:Europe/Berlin
BEGIN:DAYLIGHT
TZOFFSETFROM:+0100
TZOFFSETTO:+0200
TZNAME:CEST
DTSTART:20240331T010000
END:DAYLIGHT
BEGIN:STANDARD
TZOFFSETFROM:+0200
TZOFFSETTO:+0100
TZNAME:CET
DTSTART:20241027T010000
END:STANDARD
BEGIN:DAYLIGHT
TZOFFSETFROM:+0100
TZOFFSETTO:+0200
TZNAME:CEST
DTSTART:20250330T010000
END:DAYLIGHT
BEGIN:STANDARD
TZOFFSETFROM:+0200
TZOFFSETTO:+0100
TZNAME:CET
DTSTART:20251026T010000
END:STANDARD
BEGIN:DAYLIGHT
TZOFFSETFROM:+0100
TZOFFSETTO:+0200
TZNAME:CEST
DTSTART:20260329T010000
END:DAYLIGHT
BEGIN:STANDARD
TZOFFSETFROM:+0200
TZOFFSETTO:+0100
TZNAME:CET
DTSTART:20261025T010000
END:STANDARD
END:VTIMEZONE
BEGIN:VEVENT
DTSTART;TZID=Europe/Berlin:20251004T150000
DTEND;TZID=Europe/Berlin:20251004T163000
DTSTAMP:20260423T020743
CREATED:20250825T210517Z
LAST-MODIFIED:20251004T070512Z
UID:23913-1759590000-1759595400@tv1881altdorf.de
SUMMARY:Bezirksklasse Staffel West SG DJK Erlangen/Baiersdorf II vs TV 1881 Altdorf II (24024005)
DESCRIPTION:Bezirk­sklasse Frauen Staffel West\nBegeg­nungs-Nr: 24024005\nHeim: SG DJK Erlangen/Baiersdorf II\nGast: TV 1881 Alt­dorf II\nHalle: Erlan­gen\, Sporthalle am Europakanal (240083)\nAdresse: Schaller­shofer­straße 20\, 91056 Erlangen
URL:https://tv1881altdorf.de/event/bezirksklasse-staffel-west-sg-djk-erlangen-baiersdorf-ii-vs-tv-1881-altdorf-ii-24024005
LOCATION:Erlangen\, Sporthalle am Europakanal (240083): Schallershoferstraße 20\, 91056 Erlangen
CATEGORIES:Handball
END:VEVENT
BEGIN:VEVENT
DTSTART;TZID=Europe/Berlin:20251004T160000
DTEND;TZID=Europe/Berlin:20251004T173000
DTSTAMP:20260423T020743
CREATED:20250825T210516Z
LAST-MODIFIED:20251004T070511Z
UID:23912-1759593600-1759599000@tv1881altdorf.de
SUMMARY:Bezirksoberliga TV 1881 Altdorf vs HC Erlangen II (24022011)
DESCRIPTION:Bezirk­soberli­ga Frauen\nBegeg­nungs-Nr: 24022011\nHeim: TV 1881 Altdorf\nGast: HC Erlan­gen II\nHalle: Alt­dorf\, Schul­turn­halle Grund­schule (neu) (240000)\nAdresse: Hagen­hausen­er Str. 5\, 90518 Altdorf
URL:https://tv1881altdorf.de/event/bezirksoberliga-tv-1881-altdorf-vs-hc-erlangen-ii-24022011
LOCATION:Altdorf\, Schulturnhalle Grundschule (neu) (240000): Hagenhausener Str. 5\, 90518 Altdorf
CATEGORIES:Handball
END:VEVENT
BEGIN:VEVENT
DTSTART;TZID=Europe/Berlin:20251004T160000
DTEND;TZID=Europe/Berlin:20251004T180000
DTSTAMP:20260423T020743
CREATED:20250915T113703Z
LAST-MODIFIED:20250915T114053Z
UID:24553-1759593600-1759600800@tv1881altdorf.de
SUMMARY:Post SV Nürnberg 3-TV 1881 Altdorf U14
DESCRIPTION:
URL:https://tv1881altdorf.de/event/post-sv-nuernberg-3-tv-1881-altdorf-u14
LOCATION:Schafhofstr. 27\, 90411\, Nürnberg
CATEGORIES:Basketball,BB - U14m Bezirksoberliga
END:VEVENT
BEGIN:VEVENT
DTSTART;TZID=Europe/Berlin:20251004T170000
DTEND;TZID=Europe/Berlin:20251004T190000
DTSTAMP:20260423T020743
CREATED:20250915T105223Z
LAST-MODIFIED:20250915T105512Z
UID:24505-1759597200-1759604400@tv1881altdorf.de
SUMMARY:Nürnberger Basketball Club 2-TV 1881 Altdorf U18
DESCRIPTION:
URL:https://tv1881altdorf.de/event/nuernberger-basketball-club-2-tv-1881-altdorf-u18
LOCATION:Sielstraße 17\, 90429\, Nürnberg
CATEGORIES:Basketball,BB - U18 m Kreisliga Süd
END:VEVENT
BEGIN:VEVENT
DTSTART;TZID=Europe/Berlin:20251004T180000
DTEND;TZID=Europe/Berlin:20251004T193000
DTSTAMP:20260423T020743
CREATED:20250825T210517Z
LAST-MODIFIED:20251004T070512Z
UID:23914-1759600800-1759606200@tv1881altdorf.de
SUMMARY:Bezirksoberliga TV 1881 Altdorf vs TSV Neutraubling (24012013)
DESCRIPTION:Bezirk­soberli­ga Männer\nBegeg­nungs-Nr: 24012013\nHeim: TV 1881 Altdorf\nGast: TSV Neutraubling\nHalle: Alt­dorf\, Schul­turn­halle Grund­schule (neu) (240000)\nAdresse: Hagen­hausen­er Str. 5\, 90518 Altdorf
URL:https://tv1881altdorf.de/event/bezirksoberliga-tv-1881-altdorf-vs-tsv-neutraubling-24012013
LOCATION:Altdorf\, Schulturnhalle Grundschule (neu) (240000): Hagenhausener Str. 5\, 90518 Altdorf
CATEGORIES:Handball
END:VEVENT
BEGIN:VEVENT
DTSTART;TZID=Europe/Berlin:20251005T123000
DTEND;TZID=Europe/Berlin:20251005T143000
DTSTAMP:20260423T020743
CREATED:20250926T115017Z
LAST-MODIFIED:20251004T135010Z
UID:25121-1759667400-1759674600@tv1881altdorf.de
SUMMARY:Volleyball D2 (H) - VG Bamberg
DESCRIPTION:
URL:https://tv1881altdorf.de/event/volleyball-d2-h-vg-bamberg
CATEGORIES:Volleyball
END:VEVENT
BEGIN:VEVENT
DTSTART;TZID=Europe/Berlin:20251005T160000
DTEND;TZID=Europe/Berlin:20251005T180000
DTSTAMP:20260423T020743
CREATED:20250926T115008Z
LAST-MODIFIED:20251005T152010Z
UID:25105-1759680000-1759687200@tv1881altdorf.de
SUMMARY:Volleyball D1 (A) - SV Lohhof
DESCRIPTION:
URL:https://tv1881altdorf.de/event/volleyball-d1-a-sv-lohhof-2
CATEGORIES:Volleyball
END:VEVENT
BEGIN:VEVENT
DTSTART;TZID=Europe/Berlin:20251011T103000
DTEND;TZID=Europe/Berlin:20251011T140000
DTSTAMP:20260423T020743
CREATED:20250818T083628Z
LAST-MODIFIED:20250929T102125Z
UID:23728-1760178600-1760191200@tv1881altdorf.de
SUMMARY:Jugend Baseball Landesliga Nord (U15) – Altdorf Icesharks vs. Memmelsdorf Barons – Homegame in Altdorf
DESCRIPTION:Play Ball – im Sportpark! \nAm Sam­stag\, den 11. Okto­ber ab 10.30 Uhr emp­fan­gen die Alt­dorf Ice­sharks die Mem­mels­dorf Barons. In der Jugend Base­ball Lan­desli­ga wer­den Dou­ble Head­er gespielt – zwei Spiele hin­tere­inan­der. Ein Spiel wird über 5 Innings gespielt oder mit max­i­malem Zeitlim­it von 1\,5 Stunden. \nSpielplan 2025 Rückrunde \naktuelle Tabelle \nMehr Infos
URL:https://tv1881altdorf.de/event/jugend-baseball-altdorf-icesharks-vs-freising-grizzlies-homegame-duplikat-duplikat
LOCATION:Sportpark Altdorf
CATEGORIES:Baseball,Jugend Baseball Landesliga Nord (U15)
ATTACH;FMTTYPE=image/jpeg:https://tv1881altdorf.de/wp-content/uploads/2025/09/IMG_5258_mod01_WEB.jpg
END:VEVENT
BEGIN:VEVENT
DTSTART;TZID=Europe/Berlin:20251011T120000
DTEND;TZID=Europe/Berlin:20251011T133000
DTSTAMP:20260423T020743
CREATED:20250825T210518Z
LAST-MODIFIED:20251008T080513Z
UID:23915-1760184000-1760189400@tv1881altdorf.de
SUMMARY:Bezirksklasse Staffel West TV 1881 Altdorf II vs SV Buckenhofen II (24024009)
DESCRIPTION:Bezirk­sklasse Frauen Staffel West\nBegeg­nungs-Nr: 24024009\nHeim: TV 1881 Alt­dorf II\nGast: SV Buck­en­hofen II\nHalle: Alt­dorf\, Schul­turn­halle Grund­schule (neu) (240000)\nAdresse: Hagen­hausen­er Str. 5\, 90518 Altdorf
URL:https://tv1881altdorf.de/event/bezirksklasse-staffel-west-tv-1881-altdorf-ii-vs-sv-buckenhofen-ii-24024009
LOCATION:Altdorf\, Schulturnhalle Grundschule (neu) (240000): Hagenhausener Str. 5\, 90518 Altdorf
CATEGORIES:Handball
END:VEVENT
BEGIN:VEVENT
DTSTART;TZID=Europe/Berlin:20251011T140000
DTEND;TZID=Europe/Berlin:20251011T153000
DTSTAMP:20260423T020743
CREATED:20250825T210519Z
LAST-MODIFIED:20251011T085012Z
UID:23916-1760191200-1760196600@tv1881altdorf.de
SUMMARY:Bezirksliga Staffel West TV 1881 Altdorf II vs HC Forchheim II (24013008)
DESCRIPTION:Bezirk­sli­ga Män­ner Staffel West\nBegeg­nungs-Nr: 24013008\nHeim: TV 1881 Alt­dorf II\nGast: HC Forch­heim II\nHalle: Alt­dorf\, Schul­turn­halle Grund­schule (neu) (240000)\nAdresse: Hagen­hausen­er Str. 5\, 90518 Altdorf
URL:https://tv1881altdorf.de/event/bezirksliga-staffel-west-tv-1881-altdorf-ii-vs-hc-forchheim-ii-24013008
LOCATION:Altdorf\, Schulturnhalle Grundschule (neu) (240000): Hagenhausener Str. 5\, 90518 Altdorf
CATEGORIES:Handball
END:VEVENT
BEGIN:VEVENT
DTSTART;TZID=Europe/Berlin:20251011T150000
DTEND;TZID=Europe/Berlin:20251011T170000
DTSTAMP:20260423T020743
CREATED:20250915T093533Z
LAST-MODIFIED:20250915T100025Z
UID:24439-1760194800-1760202000@tv1881altdorf.de
SUMMARY:Nürnberger Basketball Club 2-TV 1881 Altdorf H1
DESCRIPTION:
URL:https://tv1881altdorf.de/event/nuernberger-basketball-club-2-tv-1881-altdorf-h1
LOCATION:Sielstraße 17\, 90429\, Nürnberg
CATEGORIES:Basketball,BB - Bezirksoberliga Herren
END:VEVENT
BEGIN:VEVENT
DTSTART;TZID=Europe/Berlin:20251011T150000
DTEND;TZID=Europe/Berlin:20251011T170000
DTSTAMP:20260423T020743
CREATED:20250915T113705Z
LAST-MODIFIED:20250915T114053Z
UID:24555-1760194800-1760202000@tv1881altdorf.de
SUMMARY:TB 1888 Erlangen e. V.-TV 1881 Altdorf U14
DESCRIPTION:
URL:https://tv1881altdorf.de/event/tb-1888-erlangen-e-v-tv-1881-altdorf-u14
LOCATION:Hartmannstr. 118\, 91052\, Erlangen
CATEGORIES:Basketball,BB - U14m Bezirksoberliga
END:VEVENT
BEGIN:VEVENT
DTSTART;TZID=Europe/Berlin:20251011T160000
DTEND;TZID=Europe/Berlin:20251011T173000
DTSTAMP:20260423T020743
CREATED:20250825T210520Z
LAST-MODIFIED:20251011T085013Z
UID:23917-1760198400-1760203800@tv1881altdorf.de
SUMMARY:Bezirksoberliga TV 1881 Altdorf vs SV Buckenhofen (24022016)
DESCRIPTION:Bezirk­soberli­ga Frauen\nBegeg­nungs-Nr: 24022016\nHeim: TV 1881 Altdorf\nGast: SV Buckenhofen\nHalle: Alt­dorf\, Schul­turn­halle Grund­schule (neu) (240000)\nAdresse: Hagen­hausen­er Str. 5\, 90518 Altdorf
URL:https://tv1881altdorf.de/event/bezirksoberliga-tv-1881-altdorf-vs-sv-buckenhofen-24022016
LOCATION:Altdorf\, Schulturnhalle Grundschule (neu) (240000): Hagenhausener Str. 5\, 90518 Altdorf
CATEGORIES:Handball
END:VEVENT
BEGIN:VEVENT
DTSTART;TZID=Europe/Berlin:20251011T170000
DTEND;TZID=Europe/Berlin:20251011T190000
DTSTAMP:20260423T020743
CREATED:20250926T115018Z
LAST-MODIFIED:20251011T153511Z
UID:25124-1760202000-1760209200@tv1881altdorf.de
SUMMARY:Volleyball D2 (A) - TV Fürth 1860
DESCRIPTION:
URL:https://tv1881altdorf.de/event/volleyball-d2-a-tv-fuerth-1860
CATEGORIES:Volleyball
END:VEVENT
BEGIN:VEVENT
DTSTART;TZID=Europe/Berlin:20251011T180000
DTEND;TZID=Europe/Berlin:20251011T193000
DTSTAMP:20260423T020743
CREATED:20250825T210520Z
LAST-MODIFIED:20251011T085014Z
UID:23918-1760205600-1760211000@tv1881altdorf.de
SUMMARY:Bezirksoberliga TV 1881 Altdorf vs HC Hersbruck (24012020)
DESCRIPTION:Bezirk­soberli­ga Männer\nBegeg­nungs-Nr: 24012020\nHeim: TV 1881 Altdorf\nGast: HC Hersbruck\nHalle: Alt­dorf\, Schul­turn­halle Grund­schule (neu) (240000)\nAdresse: Hagen­hausen­er Str. 5\, 90518 Altdorf
URL:https://tv1881altdorf.de/event/bezirksoberliga-tv-1881-altdorf-vs-hc-hersbruck-24012020
LOCATION:Altdorf\, Schulturnhalle Grundschule (neu) (240000): Hagenhausener Str. 5\, 90518 Altdorf
CATEGORIES:Handball
END:VEVENT
BEGIN:VEVENT
DTSTART;TZID=Europe/Berlin:20251012T110000
DTEND;TZID=Europe/Berlin:20251012T113000
DTSTAMP:20260423T020743
CREATED:20250825T210521Z
LAST-MODIFIED:20251012T090511Z
UID:23919-1760266800-1760268600@tv1881altdorf.de
SUMMARY:ÜBK AH VR Staffel 2 HG Amberg  vs TV 1881 Altdorf (24081014)
DESCRIPTION:ÜBK AH VR Staffel 2\nBegeg­nungs-Nr: 24081014\nHeim: HG Amberg\nGast: TV 1881 Altdorf\nHalle: Winkel­haid\, Dr. Diet­mar-Traut­mann-Sportan­lage (240465)\nAdresse: Sport­park­straße 2\, 90610 Winkelhaid
URL:https://tv1881altdorf.de/event/uebk-ah-vr-staffel-2-hg-amberg-vs-tv-1881-altdorf-24081014
LOCATION:Winkelhaid\, Dr. Dietmar-Trautmann-Sportanlage (240465): Sportparkstraße 2\, 90610 Winkelhaid
CATEGORIES:Handball
END:VEVENT
BEGIN:VEVENT
DTSTART;TZID=Europe/Berlin:20251012T130000
DTEND;TZID=Europe/Berlin:20251012T133000
DTSTAMP:20260423T020743
CREATED:20250825T210522Z
LAST-MODIFIED:20251012T090512Z
UID:23920-1760274000-1760275800@tv1881altdorf.de
SUMMARY:ÜBK AH VR Staffel 2 TSV Winkelhaid vs TV 1881 Altdorf (24081016)
DESCRIPTION:ÜBK AH VR Staffel 2\nBegeg­nungs-Nr: 24081016\nHeim: TSV Winkelhaid\nGast: TV 1881 Altdorf\nHalle: Winkel­haid\, Dr. Diet­mar-Traut­mann-Sportan­lage (240465)\nAdresse: Sport­park­straße 2\, 90610 Winkelhaid
URL:https://tv1881altdorf.de/event/uebk-ah-vr-staffel-2-tsv-winkelhaid-vs-tv-1881-altdorf-24081016
LOCATION:Winkelhaid\, Dr. Dietmar-Trautmann-Sportanlage (240465): Sportparkstraße 2\, 90610 Winkelhaid
CATEGORIES:Handball
END:VEVENT
BEGIN:VEVENT
DTSTART;TZID=Europe/Berlin:20251012T173000
DTEND;TZID=Europe/Berlin:20251012T193000
DTSTAMP:20260423T020743
CREATED:20250915T115527Z
LAST-MODIFIED:20250915T115746Z
UID:24601-1760290200-1760297400@tv1881altdorf.de
SUMMARY:Wild Beast Basketball Feucht-TV 1881 Altdorf U12
DESCRIPTION:
URL:https://tv1881altdorf.de/event/wild-beast-basketball-feucht-tv-1881-altdorf-u12
LOCATION:Schulstr. 28\, 90537\, Feucht
CATEGORIES:Basketball,BB - U12 mix Bezirksliga Süd
END:VEVENT
BEGIN:VEVENT
DTSTART;TZID=Europe/Berlin:20251018T120000
DTEND;TZID=Europe/Berlin:20251018T140000
DTSTAMP:20260423T020743
CREATED:20250915T105224Z
LAST-MODIFIED:20250915T105511Z
UID:24507-1760788800-1760796000@tv1881altdorf.de
SUMMARY:TV 48 Schwabach-TV 1881 Altdorf U18
DESCRIPTION:
URL:https://tv1881altdorf.de/event/tv-48-schwabach-tv-1881-altdorf-u18
LOCATION:Penzendorfer Str. 10\, 91126\, Schwabach
CATEGORIES:Basketball,BB - U18 m Kreisliga Süd
END:VEVENT
BEGIN:VEVENT
DTSTART;TZID=Europe/Berlin:20251018T130000
DTEND;TZID=Europe/Berlin:20251018T140000
DTSTAMP:20260423T020743
CREATED:20250926T115026Z
LAST-MODIFIED:20251017T172010Z
UID:25141-1760792400-1760796000@tv1881altdorf.de
SUMMARY:Volleyball D3 (A) - TSV Dürrwangen & VSG TV Bad Windsheim/SB Uffenheim 2
DESCRIPTION:
URL:https://tv1881altdorf.de/event/volleyball-d3-a-tsv-duerrwangen-vsg-tv-bad-windsheim-sb-uffenheim-2
CATEGORIES:Volleyball
END:VEVENT
BEGIN:VEVENT
DTSTART;TZID=Europe/Berlin:20251018T130000
DTEND;TZID=Europe/Berlin:20251018T160000
DTSTAMP:20260423T020743
CREATED:20250818T084051Z
LAST-MODIFIED:20250929T102332Z
UID:23732-1760792400-1760803200@tv1881altdorf.de
SUMMARY:Jugend Baseball Landesliga Nord (U15)  – Fürth Pirates vs. Altdorf Icesharks – On the Road
DESCRIPTION:Am Sam­stag\, den 18. Okto­ber ab 13.00 Uhr sind die Alt­dorf Ice­sharks U15 bei den Mem­mels­dorf Barons zu Gast. In der Jugend Base­ball Lan­desli­ga wer­den Dou­ble Head­er gespielt – zwei Spiele hin­tere­inan­der. Ein Spiel wird über 5 Innings gespielt oder mit max­i­malem Zeitlim­it von 1\,5 Stunden. \n  \nSpielplan 2025 Rückrunde \naktuelle Tabelle \nMehr Infos \n  \n 
URL:https://tv1881altdorf.de/event/jugend-baseball-altdorf-icesharks-vs-ingolstadt-schanzer-duplikat-duplikat
LOCATION:Fürth Pirates Ballpark\, Würzburger Str. 700\, Fürth\, 90768
CATEGORIES:Baseball,Jugend Baseball Landesliga Nord (U15)
ATTACH;FMTTYPE=image/jpeg:https://tv1881altdorf.de/wp-content/uploads/2025/09/IMG_5009_mod01_WEB-e1759141399458.jpg
END:VEVENT
BEGIN:VEVENT
DTSTART;TZID=Europe/Berlin:20251018T150000
DTEND;TZID=Europe/Berlin:20251018T163000
DTSTAMP:20260423T020743
CREATED:20250825T210523Z
LAST-MODIFIED:20251018T103510Z
UID:23922-1760799600-1760805000@tv1881altdorf.de
SUMMARY:Bezirksoberliga HSG Pyrbaum/Seligenporten vs TV 1881 Altdorf (24022021)
DESCRIPTION:Bezirk­soberli­ga Frauen\nBegeg­nungs-Nr: 24022021\nHeim: HSG Pyrbaum/Seligenporten\nGast: TV 1881 Altdorf\nHalle: Pyr­baum\, Schul­sporthalle (240321)\nAdresse: Schul­str. 10\, 90602 Pyrbaum
URL:https://tv1881altdorf.de/event/bezirksoberliga-hsg-pyrbaum-seligenporten-vs-tv-1881-altdorf-24022021
LOCATION:Pyrbaum\, Schulsporthalle (240321): Schulstr. 10\, 90602 Pyrbaum
CATEGORIES:Handball
END:VEVENT
BEGIN:VEVENT
DTSTART;TZID=Europe/Berlin:20251018T160000
DTEND;TZID=Europe/Berlin:20251018T180000
DTSTAMP:20260423T020743
CREATED:20250926T115019Z
LAST-MODIFIED:20251017T170511Z
UID:25125-1760803200-1760810400@tv1881altdorf.de
SUMMARY:Volleyball D2 (A) - TV/DJK Hammelburg
DESCRIPTION:
URL:https://tv1881altdorf.de/event/volleyball-d2-a-tv-djk-hammelburg
CATEGORIES:Volleyball
END:VEVENT
BEGIN:VEVENT
DTSTART;TZID=Europe/Berlin:20251018T180000
DTEND;TZID=Europe/Berlin:20251018T193000
DTSTAMP:20260423T020743
CREATED:20250825T210524Z
LAST-MODIFIED:20251018T103511Z
UID:23924-1760810400-1760815800@tv1881altdorf.de
SUMMARY:Bezirksliga Staffel West SG Auerbach/Pegnitz II vs TV 1881 Altdorf II (24013012)
DESCRIPTION:Bezirk­sli­ga Män­ner Staffel West\nBegeg­nungs-Nr: 24013012\nHeim: SG Auerbach/Pegnitz II\nGast: TV 1881 Alt­dorf II\nHalle: Peg­nitz\, Chris­t­ian-Sam­met-Halle (220320)\nAdresse: Roseg­ger­str. 22\, 91257 Pegnitz
URL:https://tv1881altdorf.de/event/bezirksliga-staffel-west-sg-auerbach-pegnitz-ii-vs-tv-1881-altdorf-ii-24013012
LOCATION:Pegnitz\, Christian-Sammet-Halle (220320): Roseggerstr. 22\, 91257 Pegnitz
CATEGORIES:Handball
END:VEVENT
BEGIN:VEVENT
DTSTART;TZID=Europe/Berlin:20251018T183000
DTEND;TZID=Europe/Berlin:20251018T200000
DTSTAMP:20260423T020743
CREATED:20250825T210524Z
LAST-MODIFIED:20251018T103511Z
UID:23925-1760812200-1760817600@tv1881altdorf.de
SUMMARY:Bezirksoberliga HG Eckental vs TV 1881 Altdorf (24012025)
DESCRIPTION:Bezirk­soberli­ga Männer\nBegeg­nungs-Nr: 24012025\nHeim: HG Eckental\nGast: TV 1881 Altdorf\nHalle: Eck­en­tal\, Sporthalle Eschenau (240080)\nAdresse: Schul­str. 1\, 90542 Eckental
URL:https://tv1881altdorf.de/event/bezirksoberliga-hg-eckental-vs-tv-1881-altdorf-24012025
LOCATION:Eckental\, Sporthalle Eschenau (240080): Schulstr. 1\, 90542 Eckental
CATEGORIES:Handball
END:VEVENT
BEGIN:VEVENT
DTSTART;TZID=Europe/Berlin:20251018T200000
DTEND;TZID=Europe/Berlin:20251018T220000
DTSTAMP:20260423T020743
CREATED:20250926T115011Z
LAST-MODIFIED:20251018T183510Z
UID:25106-1760817600-1760824800@tv1881altdorf.de
SUMMARY:Volleyball D1 (A) - TG Bad Soden
DESCRIPTION:
URL:https://tv1881altdorf.de/event/volleyball-d1-a-tg-bad-soden-2
CATEGORIES:Volleyball
END:VEVENT
BEGIN:VEVENT
DTSTART;TZID=Europe/Berlin:20251019T100000
DTEND;TZID=Europe/Berlin:20251019T120000
DTSTAMP:20260423T020743
CREATED:20250915T115836Z
LAST-MODIFIED:20250915T120045Z
UID:24632-1760868000-1760875200@tv1881altdorf.de
SUMMARY:TV 1881 Altdorf U10-TV 48 Schwabach 3
DESCRIPTION:
URL:https://tv1881altdorf.de/event/tv-1881-altdorf-u10-tv-48-schwabach-3
LOCATION:Hagenhausener Str. 5\, 90518\, Altdorf
CATEGORIES:Basketball,BB - U10 mix Kreisliga Süd
END:VEVENT
BEGIN:VEVENT
DTSTART;TZID=Europe/Berlin:20251019T110000
DTEND;TZID=Europe/Berlin:20251019T133000
DTSTAMP:20260423T020743
CREATED:20250818T093304Z
LAST-MODIFIED:20250818T093737Z
UID:23754-1760871600-1760880600@tv1881altdorf.de
SUMMARY:Schüler Coach Pitch Nord (U10)  – Laufer Wölfe/Fürth Pirates vs. Altdorf Little Icesharks – On the Road
DESCRIPTION:Am Son­ntag\, den 19. Okto­ber ab 11.00 Uhr sind die Alt­dorf Lit­tle Ice­sharks U10 bei den Laufer Wölfen zu Gast. Im Anschluss ab 12.30 spie­len die Lit­tle Ice­sharks auf dem sel­ben Platz ein zweites Spiel gegen die Fürth Pirates.\nIn der Schüler Coach Pitch Liga wer­den 5 Innings gespielt oder mit max­i­malem Zeitlim­it von 1 Stunde. Eine Tabelle wird bei den Kids nicht geführt. Spaß für alle garantiert – auf und neben dem Platz. \nSpielplan 2025 \nMehr Infos \n  \n  \n 
URL:https://tv1881altdorf.de/event/jugend-baseball-altdorf-icesharks-vs-ingolstadt-schanzer-duplikat-duplikat-duplikat-duplikat
LOCATION:Laufer Wölfe Ballpark\, Am Haberloh 6\, Lauf\, Bayern\, 91207\, Germany
CATEGORIES:Baseball,Schüler Coach Pitch Nord (U10)
ATTACH;FMTTYPE=image/jpeg:https://tv1881altdorf.de/wp-content/uploads/2025/08/icesharks_website_slider_08_Little-Sharks_15.jpg
END:VEVENT
BEGIN:VEVENT
DTSTART;TZID=Europe/Berlin:20251019T143000
DTEND;TZID=Europe/Berlin:20251019T163000
DTSTAMP:20260423T020743
CREATED:20250915T100147Z
LAST-MODIFIED:20250915T100457Z
UID:24482-1760884200-1760891400@tv1881altdorf.de
SUMMARY:TV 1881 Altdorf H2-Frankonia Baskets Nürnberg 3
DESCRIPTION:
URL:https://tv1881altdorf.de/event/tv-1881-altdorf-h2-frankonia-baskets-nuernberg-3
LOCATION:Hagenhausener Str. 5\, 90518\, Altdorf
CATEGORIES:Basketball,BB - Kreisliga Herren 2
END:VEVENT
BEGIN:VEVENT
DTSTART;TZID=Europe/Berlin:20251019T164500
DTEND;TZID=Europe/Berlin:20251019T184500
DTSTAMP:20260423T020743
CREATED:20250915T093534Z
LAST-MODIFIED:20250915T100025Z
UID:24440-1760892300-1760899500@tv1881altdorf.de
SUMMARY:TV 1881 Altdorf H1-TSV 1946 Altenberg
DESCRIPTION:
URL:https://tv1881altdorf.de/event/tv-1881-altdorf-h1-tsv-1946-altenberg
LOCATION:Hagenhausener Str. 5\, 90518\, Altdorf
CATEGORIES:Basketball,BB - Bezirksoberliga Herren
END:VEVENT
END:VCALENDAR