BEGIN:VCALENDAR
VERSION:2.0
PRODID:-//TV 1881 Altdorf e.V. - ECPv6.15.20//NONSGML v1.0//EN
CALSCALE:GREGORIAN
METHOD:PUBLISH
X-ORIGINAL-URL:https://tv1881altdorf.de
X-WR-CALDESC:Veranstaltungen für TV 1881 Altdorf e.V.
REFRESH-INTERVAL;VALUE=DURATION:PT1H
X-Robots-Tag:noindex
X-PUBLISHED-TTL:PT1H
BEGIN:VTIMEZONE
TZID:Europe/Berlin
BEGIN:DAYLIGHT
TZOFFSETFROM:+0100
TZOFFSETTO:+0200
TZNAME:CEST
DTSTART:20250330T010000
END:DAYLIGHT
BEGIN:STANDARD
TZOFFSETFROM:+0200
TZOFFSETTO:+0100
TZNAME:CET
DTSTART:20251026T010000
END:STANDARD
BEGIN:DAYLIGHT
TZOFFSETFROM:+0100
TZOFFSETTO:+0200
TZNAME:CEST
DTSTART:20260329T010000
END:DAYLIGHT
BEGIN:STANDARD
TZOFFSETFROM:+0200
TZOFFSETTO:+0100
TZNAME:CET
DTSTART:20261025T010000
END:STANDARD
BEGIN:DAYLIGHT
TZOFFSETFROM:+0100
TZOFFSETTO:+0200
TZNAME:CEST
DTSTART:20270328T010000
END:DAYLIGHT
BEGIN:STANDARD
TZOFFSETFROM:+0200
TZOFFSETTO:+0100
TZNAME:CET
DTSTART:20271031T010000
END:STANDARD
END:VTIMEZONE
BEGIN:VEVENT
DTSTART;TZID=Europe/Berlin:20260425T000000
DTEND;TZID=Europe/Berlin:20260425T020000
DTSTAMP:20260422T172504
CREATED:20250915T094103Z
LAST-MODIFIED:20250915T100022Z
UID:24469-1777075200-1777082400@tv1881altdorf.de
SUMMARY:ESV Flügelrad Nürnberg-TV 1881 Altdorf H1
DESCRIPTION:
URL:https://tv1881altdorf.de/event/esv-fluegelrad-nuernberg-tv-1881-altdorf-h1
LOCATION:Finkenbrunn 145\, 90469\, Nürnberg
CATEGORIES:Basketball,BB - Bezirksoberliga Herren
END:VEVENT
BEGIN:VEVENT
DTSTART;VALUE=DATE:20260425
DTEND;VALUE=DATE:20260426
DTSTAMP:20260422T172504
CREATED:20230323T073544Z
LAST-MODIFIED:20260309T114531Z
UID:8930-1777075200-1777161599@tv1881altdorf.de
SUMMARY:Season opening in Zirndorf
DESCRIPTION:Ort: Zirndorf \nAlter­sklassen: ab U12 (ab 10 Jahre) \nAuss­chrei­bung: hier
URL:https://tv1881altdorf.de/event/season-opening-2026
CATEGORIES:Leichtathletik
END:VEVENT
BEGIN:VEVENT
DTSTART;TZID=Europe/Berlin:20260425T070000
DTEND;TZID=Europe/Berlin:20260425T170000
DTSTAMP:20260422T172504
CREATED:20251123T103730Z
LAST-MODIFIED:20251123T103730Z
UID:26462-1777100400-1777136400@tv1881altdorf.de
SUMMARY:Landkreislauf mit 10 Etappen von Neuhaus Pegnitz nach Kirchröttenbach
DESCRIPTION:- Start erste Etappe um 7:00 Uhr
URL:https://tv1881altdorf.de/event/landkreislauf-mit-10-etappen-von-neuhaus-pegnitz-nach-kirchroettenbach
CATEGORIES:Lauftreff
END:VEVENT
BEGIN:VEVENT
DTSTART;TZID=Europe/Berlin:20260425T103000
DTEND;TZID=Europe/Berlin:20260425T140000
DTSTAMP:20260422T172504
CREATED:20260323T164814Z
LAST-MODIFIED:20260323T164953Z
UID:28837-1777113000-1777125600@tv1881altdorf.de
SUMMARY:Jugend Baseball Landesliga Nord (U15) – Altdorf Icesharks vs. SG Memmelsdorf/Schweinfurt – Homegame in Altdorf
DESCRIPTION:Play Ball – im Sportpark! \nAm Sam­stag\, den 25. April ab 10.30 Uhr emp­fan­gen die Alt­dorf Ice­sharks die SG Memmelsdorf/Schweinfurt. In der Jugend Base­ball Lan­desli­ga wer­den Dou­ble Head­er gespielt – zwei Spiele hin­tere­inan­der. Ein Spiel wird über 5 Innings gespielt oder mit max­i­malem Zeitlim­it von 1\,5 Stunden. \n  \n  \nSpielplan 2026 \nTabelle 2026 \nMehr Infos \n  \n 
URL:https://tv1881altdorf.de/event/jugend-baseball-landesliga-nord-u15-altdorf-icesharks-vs-sg-memmelsdorfschweinfurt-homegame-in-altdorf
LOCATION:Sportpark Altdorf
CATEGORIES:Baseball,Jugend Baseball Landesliga Nord (U15)
ATTACH;FMTTYPE=image/jpeg:https://tv1881altdorf.de/wp-content/uploads/2025/09/IMG_5258_mod01_WEB.jpg
END:VEVENT
BEGIN:VEVENT
DTSTART;TZID=Europe/Berlin:20260425T150000
DTEND;TZID=Europe/Berlin:20260425T173000
DTSTAMP:20260422T172504
CREATED:20260322T203102Z
LAST-MODIFIED:20260322T205948Z
UID:28786-1777129200-1777138200@tv1881altdorf.de
SUMMARY:Schüler Coach Pitch Nord (U10) – Altdorf Little Icesharks vs. Ingolstadt Schanzer – Homegame in Altdorf
DESCRIPTION:Play Ball – im Sportpark! \nAm Sam­stag\, den 25. April ab 15.00 Uhr emp­fan­gen die Alt­dorf Lit­tle Ice­sharks die Ingol­stadt Schanz­er zu einem Dou­ble Head­er – also 2 Spiele hin­tere­inan­der. In der Schüler Coach Pitch Liga wer­den 5 Innings gespielt oder mit max­i­malem Zeitlim­it von 1 Stunde. Eine Tabelle wird bei den Kids nicht geführt. Spaß für alle garantiert – auf und neben dem Platz. \nSpielplan 2026 \nMehr Infos
URL:https://tv1881altdorf.de/event/schler-coach-pitch-nord-u10-altdorf-little-icesharks-vs-ingolstadt-schanzer-homegame-in-altdorf
LOCATION:Sportpark Altdorf
CATEGORIES:Baseball,Schüler Coach Pitch Nord (U10)
ATTACH;FMTTYPE=image/jpeg:https://tv1881altdorf.de/wp-content/uploads/2026/03/IMG_9157_LR_WEB.jpg
END:VEVENT
BEGIN:VEVENT
DTSTART;TZID=Europe/Berlin:20260425T170000
DTEND;TZID=Europe/Berlin:20260425T190000
DTSTAMP:20260422T172504
CREATED:20250915T100234Z
LAST-MODIFIED:20250915T100456Z
UID:24492-1777136400-1777143600@tv1881altdorf.de
SUMMARY:Nürnberger Basketball Club 3-TV 1881 Altdorf H2
DESCRIPTION:
URL:https://tv1881altdorf.de/event/nuernberger-basketball-club-3-tv-1881-altdorf-h2
LOCATION:Sielstraße 17\, 90429\, Nürnberg
CATEGORIES:Basketball,BB - Kreisliga Herren 2
END:VEVENT
BEGIN:VEVENT
DTSTART;TZID=Europe/Berlin:20260425T190000
DTEND;TZID=Europe/Berlin:20260425T210000
DTSTAMP:20260422T172504
CREATED:20250926T115038Z
LAST-MODIFIED:20260422T110506Z
UID:25168-1777143600-1777150800@tv1881altdorf.de
SUMMARY:Volleyball D1 (H) - Black Forest Volleys Offenburg
DESCRIPTION:
URL:https://tv1881altdorf.de/event/volleyball-d1-h-black-forest-volleys-offenburg
CATEGORIES:Volleyball
END:VEVENT
BEGIN:VEVENT
DTSTART;TZID=Europe/Berlin:20260426T121500
DTEND;TZID=Europe/Berlin:20260426T141500
DTSTAMP:20260422T172504
CREATED:20250915T115642Z
LAST-MODIFIED:20250915T115743Z
UID:24613-1777205700-1777212900@tv1881altdorf.de
SUMMARY:TV 1881 Altdorf U12-Wild Beast Basketball Feucht
DESCRIPTION:
URL:https://tv1881altdorf.de/event/tv-1881-altdorf-u12-wild-beast-basketball-feucht
LOCATION:Hagenhausener Str. 5\, 90518\, Altdorf
CATEGORIES:Basketball,BB - U12 mix Bezirksliga Süd
END:VEVENT
BEGIN:VEVENT
DTSTART;TZID=Europe/Berlin:20260426T130000
DTEND;TZID=Europe/Berlin:20260426T170000
DTSTAMP:20260422T172504
CREATED:20260123T151009Z
LAST-MODIFIED:20260123T151009Z
UID:27675-1777208400-1777222800@tv1881altdorf.de
SUMMARY:Ju-Jutsu - Landes Lehrgang Kodokan-Kime-No-Kata
DESCRIPTION:Lan­des Lehrgang Kodokan-Kime-No-Kata.\nVor­bere­itung zum 4. und 5.Dan Ju-Jut­su und Wahlfach zum 1. — 3. Dan Ju-Jutsu
URL:https://tv1881altdorf.de/event/ju-jutsu-landes-lehrgang-kodokan-kime-no-kata
LOCATION:Judo und Gymnastikhalle\, TV 1881 Altdorf e.V.\, Heumannstrasse 5a\, Altdorf\, 90518\, Germany
CATEGORIES:Judo und Ju-Jutsu
END:VEVENT
BEGIN:VEVENT
DTSTART;TZID=Europe/Berlin:20260426T143000
DTEND;TZID=Europe/Berlin:20260426T163000
DTSTAMP:20260422T172504
CREATED:20250915T113543Z
LAST-MODIFIED:20250915T113952Z
UID:24549-1777213800-1777221000@tv1881altdorf.de
SUMMARY:TV 1881 Altdorf U16-VfL Treuchtlingen
DESCRIPTION:
URL:https://tv1881altdorf.de/event/tv-1881-altdorf-u16-vfl-treuchtlingen
LOCATION:Hagenhausener Str. 5\, 90518\, Altdorf
CATEGORIES:Basketball,BB - U16m Kreisliga Süd
END:VEVENT
END:VCALENDAR