BEGIN:VCALENDAR
VERSION:2.0
PRODID:-//TV 1881 Altdorf e.V. - ECPv6.15.20//NONSGML v1.0//EN
CALSCALE:GREGORIAN
METHOD:PUBLISH
X-ORIGINAL-URL:https://tv1881altdorf.de
X-WR-CALDESC:Veranstaltungen für TV 1881 Altdorf e.V.
REFRESH-INTERVAL;VALUE=DURATION:PT1H
X-Robots-Tag:noindex
X-PUBLISHED-TTL:PT1H
BEGIN:VTIMEZONE
TZID:Europe/Berlin
BEGIN:DAYLIGHT
TZOFFSETFROM:+0100
TZOFFSETTO:+0200
TZNAME:CEST
DTSTART:20250330T010000
END:DAYLIGHT
BEGIN:STANDARD
TZOFFSETFROM:+0200
TZOFFSETTO:+0100
TZNAME:CET
DTSTART:20251026T010000
END:STANDARD
BEGIN:DAYLIGHT
TZOFFSETFROM:+0100
TZOFFSETTO:+0200
TZNAME:CEST
DTSTART:20260329T010000
END:DAYLIGHT
BEGIN:STANDARD
TZOFFSETFROM:+0200
TZOFFSETTO:+0100
TZNAME:CET
DTSTART:20261025T010000
END:STANDARD
BEGIN:DAYLIGHT
TZOFFSETFROM:+0100
TZOFFSETTO:+0200
TZNAME:CEST
DTSTART:20270328T010000
END:DAYLIGHT
BEGIN:STANDARD
TZOFFSETFROM:+0200
TZOFFSETTO:+0100
TZNAME:CET
DTSTART:20271031T010000
END:STANDARD
END:VTIMEZONE
BEGIN:VEVENT
DTSTART;TZID=Europe/Berlin:20260711T140000
DTEND;TZID=Europe/Berlin:20260711T163000
DTSTAMP:20260423T011022
CREATED:20260323T203843Z
LAST-MODIFIED:20260331T170457Z
UID:28877-1783778400-1783787400@tv1881altdorf.de
SUMMARY:Baseball – Game 7 – Ingolstadt Schanzer 2 vs. Altdorf Icesharks – On the Road
DESCRIPTION:Play Ball in Ingolstadt \nAm Sam­stag\, den 11. Juli ab 14.00 Uhr sind die Alt­dorf Ice­sharks bei den Ingol­stadt Schanz­er zu Gast.\nIn der Lan­desklasse Base­ball Nord wer­den Sin­glegames über 7 Innings  (oder mit max­i­malem Zeitlim­it von 2\,5 Stun­den) gespielt. \n  \n  \nLinks: \nAlt­dorf Ice­sharks Ballpark \nSpielplan 2026 \nTabelle 2026 \nIce­sharks on Instagram \nIngol­stadt Schanz­er on Instagram \n  \n \n  \n 
URL:https://tv1881altdorf.de/event/baseball-game-7-ingolstadt-schanzer-2-vs-altdorf-icesharks-on-the-road
LOCATION:Ingolstadt Schanzer Ballpark\, Neuburger Straße 85\, Ingolstadt\, Bayern\, 85057\, Germany
CATEGORIES:Baseball,Landesklasse Baseball Nord
ATTACH;FMTTYPE=image/jpeg:https://tv1881altdorf.de/wp-content/uploads/2026/03/IMG_3817_mod01_WEB-1.jpg
END:VEVENT
BEGIN:VEVENT
DTSTART;TZID=Europe/Berlin:20260712T110000
DTEND;TZID=Europe/Berlin:20260712T133000
DTSTAMP:20260423T011022
CREATED:20260322T211200Z
LAST-MODIFIED:20260322T212617Z
UID:28802-1783854000-1783863000@tv1881altdorf.de
SUMMARY:Schüler Coach Pitch Nord (U10) – Altdorf Little Icesharks vs. Regensburg Legionäre – Homegame in Altdorf
DESCRIPTION:Play Ball – im Sportpark! \nAm Son­ntag\, den 12. Juli ab 11.00 Uhr emp­fan­gen die Alt­dorf Lit­tle Ice­sharks die Regens­burg Legionäre zu einem Dou­ble Head­er – also 2 Spiele hin­tere­inan­der. In der Schüler Coach Pitch Liga wer­den 5 Innings gespielt oder mit max­i­malem Zeitlim­it von 1 Stunde. Eine Tabelle wird bei den Kids nicht geführt. Spaß für alle garantiert – auf und neben dem Platz. \nSpielplan 2026 \nMehr Infos
URL:https://tv1881altdorf.de/event/schler-coach-pitch-nord-u10-altdorf-little-icesharks-vs-regensburg-legionre-homegame-in-altdorf
LOCATION:Sportpark Altdorf
CATEGORIES:Baseball,Schüler Coach Pitch Nord (U10)
ATTACH;FMTTYPE=image/jpeg:https://tv1881altdorf.de/wp-content/uploads/2026/03/IMG_9425_LR_WEB.jpg
END:VEVENT
BEGIN:VEVENT
DTSTART;TZID=Europe/Berlin:20260718T110000
DTEND;TZID=Europe/Berlin:20260718T143000
DTSTAMP:20260423T011022
CREATED:20260323T174132Z
LAST-MODIFIED:20260323T174429Z
UID:28847-1784372400-1784385000@tv1881altdorf.de
SUMMARY:Jugend Baseball Landesliga Nord (U15) – SG Memmelsdorf/Schweinfurt vs. Altdorf Icesharks – On the Road
DESCRIPTION:Am Sam­stag\, den 20. Juni ab 14.30 Uhr sind die Alt­dorf Ice­sharks U15 bei der SG Memmelsdorf/Schweinfurt in Mem­mels­dorf zu Gast. In der Jugend Base­ball Lan­desli­ga wer­den Dou­ble Head­er gespielt – zwei Spiele hin­tere­inan­der. Ein Spiel wird über 5 Innings gespielt oder mit max­i­malem Zeitlim­it von 1\,5 Stunden. \n  \nSpielplan 2026 \nTabelle 2026 \nMehr Infos \n  \n 
URL:https://tv1881altdorf.de/event/jugend-baseball-landesliga-nord-u15-sg-memmelsdorfschweinfurt-vs-altdorf-icesharks-on-the-road
LOCATION:Memmelsdorf Barons Ballpark\, Pödeldorfer Str.\, Memmelsdorf\, 96117
CATEGORIES:Baseball,Jugend Baseball Landesliga Nord (U15)
ATTACH;FMTTYPE=image/jpeg:https://tv1881altdorf.de/wp-content/uploads/2025/10/IMG_5468_LR_mod01_WEB.jpg
END:VEVENT
BEGIN:VEVENT
DTSTART;TZID=Europe/Berlin:20260719T140000
DTEND;TZID=Europe/Berlin:20260719T163000
DTSTAMP:20260423T011022
CREATED:20260323T205315Z
LAST-MODIFIED:20260331T170433Z
UID:28881-1784469600-1784478600@tv1881altdorf.de
SUMMARY:Baseball – Game 8 – Altdorf Icesharks vs. Erlangen White Sox 2 – Homegame in Altdorf
DESCRIPTION:Play Ball im Alt­dorf Ice­sharks Ball­park hin­ter der Mit­telschule/Leib­niz-Gym­na­si­um \nAm Sam­stag\, den 19. Juli ab 14.00 Uhr emp­fan­gen die Alt­dorf Ice­sharks den Cham­pi­on der Lan­desklasse 2025 – die White Sox aus Erlangen.\nIn der Lan­desklasse Base­ball Nord wer­den Sin­glegames über 7 Innings  (oder mit max­i­malem Zeitlim­it von 2\,5 Stun­den) gespielt. \n  \n  \nLinks: \nAlt­dorf Ice­sharks Ballpark \nSpielplan 2026 \nTabelle 2026 \nIce­sharks on Instagram \nErlan­gen White Sox on Instagram \n  \n \n  \n  \n  \n  \n  \n  \n 
URL:https://tv1881altdorf.de/event/baseball-game-8-altdorf-icesharks-vs-erlangen-white-sox-2-homegame-in-altdorf
LOCATION:Altdorf Icesharks Ballpark hinter Mittelschule/Leibniz Gymnasium\, Schulstraße\, Altdorf\, Bayern\, 90518\, Deutschland
CATEGORIES:Baseball,Landesklasse Baseball Nord
ATTACH;FMTTYPE=image/jpeg:https://tv1881altdorf.de/wp-content/uploads/2026/03/IMG_5658_1_mod01_WEB.jpg
END:VEVENT
BEGIN:VEVENT
DTSTART;VALUE=DATE:20260725
DTEND;VALUE=DATE:20260726
DTSTAMP:20260423T011022
CREATED:20260323T163244Z
LAST-MODIFIED:20260323T163511Z
UID:28830-1784937600-1785023999@tv1881altdorf.de
SUMMARY:Mixed Fun Softballteam – Turnier in Schwaig
DESCRIPTION:Mixed Fun Softballteam \n 
URL:https://tv1881altdorf.de/event/mixed-fun-softballteam-red-lions-cup-in-schwaig
LOCATION:Schwaig
CATEGORIES:Baseball,Mixed Fun Softballteam
ATTACH;FMTTYPE=image/jpeg:https://tv1881altdorf.de/wp-content/uploads/2025/08/WhatsApp-Image-2025-08-08-at-22.29.01_WEB.jpg
END:VEVENT
BEGIN:VEVENT
DTSTART;TZID=Europe/Berlin:20260725T100000
DTEND;TZID=Europe/Berlin:20260725T123000
DTSTAMP:20260423T011022
CREATED:20260322T211736Z
LAST-MODIFIED:20260322T212759Z
UID:28805-1784973600-1784982600@tv1881altdorf.de
SUMMARY:Schüler Coach Pitch Nord (U10) – Laufer Wölfe vs. Altdorf Little Icesharks – On the Road
DESCRIPTION:Am Sam­stag\, den 25. Juli ab 10.00 Uhr sind die Alt­dorf Lit­tle Ice­sharks U10 bei den Laufer Wölfen zu Gast. In der Schüler Coach Pitch Liga wer­den 5 Innings gespielt oder mit max­i­malem Zeitlim­it von 1 Stunde. Eine Tabelle wird bei den Kids nicht geführt. Spaß für alle garantiert – auf und neben dem Platz. \nSpielplan 2026 \nMehr Infos \n  \n  \n 
URL:https://tv1881altdorf.de/event/schler-coach-pitch-nord-u10-laufer-wlfe-vs-altdorf-little-icesharks-on-the-road
LOCATION:Laufer Wölfe Ballpark\, Am Haberloh 6\, Lauf\, Bayern\, 91207\, Germany
CATEGORIES:Baseball,Schüler Coach Pitch Nord (U10)
ATTACH;FMTTYPE=image/jpeg:https://tv1881altdorf.de/wp-content/uploads/2026/03/IMG_9441_LR_WEB.jpg
END:VEVENT
BEGIN:VEVENT
DTSTART;TZID=Europe/Berlin:20260725T103000
DTEND;TZID=Europe/Berlin:20260725T140000
DTSTAMP:20260423T011022
CREATED:20260323T174700Z
LAST-MODIFIED:20260323T174846Z
UID:28849-1784975400-1784988000@tv1881altdorf.de
SUMMARY:Jugend Baseball Landesliga Nord (U15) – Altdorf Icesharks vs. Laufer Wölfe – Homegame in Altdorf
DESCRIPTION:Play Ball – im Sportpark! \nAm Sam­stag\, den 25. Juli ab 10.30 Uhr emp­fan­gen die Alt­dorf Ice­sharks die Laufer Wölfe. In der Jugend Base­ball Lan­desli­ga wer­den Dou­ble Head­er gespielt – zwei Spiele hin­tere­inan­der. Ein Spiel wird über 5 Innings gespielt oder mit max­i­malem Zeitlim­it von 1\,5 Stunden. \n  \n  \nSpielplan 2026 \nTabelle 2026 \nMehr Infos \n  \n 
URL:https://tv1881altdorf.de/event/jugend-baseball-landesliga-nord-u15-altdorf-icesharks-vs-laufer-wlfe-homegame-in-altdorf
LOCATION:Sportpark Altdorf
CATEGORIES:Baseball,Jugend Baseball Landesliga Nord (U15)
ATTACH;FMTTYPE=image/jpeg:https://tv1881altdorf.de/wp-content/uploads/2024/02/IMG_1073_LR_mod01.jpg
END:VEVENT
BEGIN:VEVENT
DTSTART;VALUE=DATE:20260726
DTEND;VALUE=DATE:20260727
DTSTAMP:20260423T011022
CREATED:20251218T113400Z
LAST-MODIFIED:20251218T113400Z
UID:27079-1785024000-1785110399@tv1881altdorf.de
SUMMARY:35. M-net Erlanger Triathlon 2026
DESCRIPTION:
URL:https://tv1881altdorf.de/event/35-m-net-erlanger-triathlon-2026
CATEGORIES:Triathlon
END:VEVENT
BEGIN:VEVENT
DTSTART;TZID=Europe/Berlin:20260726T080000
DTEND;TZID=Europe/Berlin:20260726T170000
DTSTAMP:20260423T011022
CREATED:20251123T105657Z
LAST-MODIFIED:20251125T160056Z
UID:26468-1785052800-1785085200@tv1881altdorf.de
SUMMARY:Wallenstein Halbmarathon Altdorf
DESCRIPTION:Dis­tanzen 5 km\, 12 km und Halb­marathon 21\,1 km \nStart ab 8:00 Uhr im Sport­park des TV 1881 Altdorf
URL:https://tv1881altdorf.de/event/wallenstein-halbmarathon-altdorf
CATEGORIES:Lauftreff
END:VEVENT
BEGIN:VEVENT
DTSTART;TZID=Europe/Berlin:20260726T083000
DTEND;TZID=Europe/Berlin:20260726T160000
DTSTAMP:20260423T011022
CREATED:20260124T232817Z
LAST-MODIFIED:20260124T232817Z
UID:27707-1785054600-1785081600@tv1881altdorf.de
SUMMARY:Ju-Jutsu - Kyu Prüfung
DESCRIPTION:Mel­dung an JJVB über Armin Hausmann
URL:https://tv1881altdorf.de/event/ju-jutsu-kyu-pruefung
LOCATION:Judo und Gymnastikhalle\, TV 1881 Altdorf e.V.\, Heumannstrasse 5a\, Altdorf\, 90518\, Germany
CATEGORIES:Judo und Ju-Jutsu
END:VEVENT
BEGIN:VEVENT
DTSTART;TZID=Europe/Berlin:20260726T140000
DTEND;TZID=Europe/Berlin:20260726T163000
DTSTAMP:20260423T011022
CREATED:20260323T205755Z
LAST-MODIFIED:20260331T170418Z
UID:28885-1785074400-1785083400@tv1881altdorf.de
SUMMARY:Baseball – Game 9 – Altdorf Icesharks vs. Unterwurmbach Red Sox – Homegame in Altdorf
DESCRIPTION:Play Ball im Alt­dorf Ice­sharks Ball­park hin­ter der Mit­telschule/Leib­niz-Gym­na­si­um \nAm Sam­stag\, den 26. Juli ab 14.00 Uhr emp­fan­gen die Alt­dorf Ice­sharks die Red Sox aus Unterwurmbach.\nIn der Lan­desklasse Base­ball Nord wer­den Sin­glegames über 7 Innings  (oder mit max­i­malem Zeitlim­it von 2\,5 Stun­den) gespielt. \n  \n  \nLinks: \nAlt­dorf Ice­sharks Ballpark \nSpielplan 2026 \nTabelle 2026 \nIce­sharks on Instagram \nUnter­wurm­bach Red Sox on Instagram \n  \n \n  \n  \n  \n  \n  \n 
URL:https://tv1881altdorf.de/event/baseball-game-9-altdorf-icesharks-vs-unterwurmbach-red-sox-homegame-in-altdorf
LOCATION:Altdorf Icesharks Ballpark hinter Mittelschule/Leibniz Gymnasium\, Schulstraße\, Altdorf\, Bayern\, 90518\, Deutschland
CATEGORIES:Baseball,Landesklasse Baseball Nord
ATTACH;FMTTYPE=image/jpeg:https://tv1881altdorf.de/wp-content/uploads/2024/02/Abteilung-Teaser_Baseball_05.jpg
END:VEVENT
BEGIN:VEVENT
DTSTART;TZID=Europe/Berlin:20260731T170000
DTEND;TZID=Europe/Berlin:20260731T170000
DTSTAMP:20260423T011022
CREATED:20251123T110951Z
LAST-MODIFIED:20251123T111037Z
UID:26471-1785517200-1785517200@tv1881altdorf.de
SUMMARY:Sommerfest des "Lauftreffs"
DESCRIPTION:Das Som­mer­fest find­et auf dem Sport­gelände (Sport­park Alt­dorf TV 1881)\, Heumannstraße statt  (Beginn ab 17:00)
URL:https://tv1881altdorf.de/event/sommerfest-des-lauftreffs
CATEGORIES:Lauftreff
END:VEVENT
BEGIN:VEVENT
DTSTART;VALUE=DATE:20260801
DTEND;VALUE=DATE:20260802
DTSTAMP:20260423T011022
CREATED:20251218T114640Z
LAST-MODIFIED:20251218T114640Z
UID:27089-1785542400-1785628799@tv1881altdorf.de
SUMMARY:eology Mainfrankentriathlon 2026
DESCRIPTION:
URL:https://tv1881altdorf.de/event/eology-mainfrankentriathlon-2026
CATEGORIES:Triathlon
END:VEVENT
BEGIN:VEVENT
DTSTART;TZID=Europe/Berlin:20260809T140000
DTEND;TZID=Europe/Berlin:20260809T163000
DTSTAMP:20260423T011022
CREATED:20260323T211921Z
LAST-MODIFIED:20260331T170403Z
UID:28892-1786284000-1786293000@tv1881altdorf.de
SUMMARY:Baseball – Game 10 – Altdorf Icesharks vs. Ingolstadt Schanzer 2 – Homegame in Altdorf
DESCRIPTION:Play Ball im Alt­dorf Ice­sharks Ball­park hin­ter der Mit­telschule/Leib­niz-Gym­na­si­um \nAm Sam­stag\, den 9. August ab 14.00 Uhr emp­fan­gen die Alt­dorf Ice­sharks die Ingol­stadt Schanzer.\nIn der Lan­desklasse Base­ball Nord wer­den Sin­glegames über 7 Innings  (oder mit max­i­malem Zeitlim­it von 2\,5 Stun­den) gespielt. \n  \n  \nLinks: \nAlt­dorf Ice­sharks Ballpark \nSpielplan 2026 \nTabelle 2026 \nIce­sharks on Instagram \nIngol­stadt Schanz­er on Instagram \n  \n \n  \n  \n  \n  \n  \n 
URL:https://tv1881altdorf.de/event/baseball-game-10-altdorf-icesharks-vs-ingolstadt-schanzer-2-homegame-in-altdorf
LOCATION:Altdorf Icesharks Ballpark hinter Mittelschule/Leibniz Gymnasium\, Schulstraße\, Altdorf\, Bayern\, 90518\, Deutschland
CATEGORIES:Baseball,Landesklasse Baseball Nord
ATTACH;FMTTYPE=image/jpeg:https://tv1881altdorf.de/wp-content/uploads/2026/03/IMG_4685_LR_WEB.jpg
END:VEVENT
BEGIN:VEVENT
DTSTART;TZID=Europe/Berlin:20260815T140000
DTEND;TZID=Europe/Berlin:20260815T163000
DTSTAMP:20260423T011022
CREATED:20260323T212748Z
LAST-MODIFIED:20260331T170345Z
UID:28895-1786802400-1786811400@tv1881altdorf.de
SUMMARY:Baseball – Game 11 – Memmelsdorf Barons 2 vs. Altdorf Icesharks – On the Road
DESCRIPTION:Play Ball in Memmelsdorf \nAm Sam­stag\, den 15. August ab 14.00 Uhr sind die Alt­dorf Ice­sharks bei den Mem­mels­dorf Barons zu Gast.\nIn der Lan­desklasse Base­ball Nord wer­den Sin­glegames über 7 Innings  (oder mit max­i­malem Zeitlim­it von 2\,5 Stun­den) gespielt. \n  \n  \n  \nLinks: \nAlt­dorf Ice­sharks Ballpark \nSpielplan 2026 \nTabelle 2026 \nIce­sharks on Instagram \nMem­mels­dorf Barons on Instagram \n  \n \n  \n  \n  \n  \n  \n 
URL:https://tv1881altdorf.de/event/baseball-game-12-memmelsdorf-barons-2-vs-altdorf-icesharks-on-the-road
LOCATION:Memmelsdorf Barons Ballpark\, Pödeldorfer Str.\, Memmelsdorf\, 96117
CATEGORIES:Baseball,Landesklasse Baseball Nord
ATTACH;FMTTYPE=image/jpeg:https://tv1881altdorf.de/wp-content/uploads/2026/03/WhatsApp-Image-2025-09-07-at-15.08.17-1_mod01_LR-scaled.jpg
END:VEVENT
BEGIN:VEVENT
DTSTART;TZID=Europe/Berlin:20260822T140000
DTEND;TZID=Europe/Berlin:20260822T163000
DTSTAMP:20260423T011022
CREATED:20260323T213235Z
LAST-MODIFIED:20260331T170331Z
UID:28898-1787407200-1787416200@tv1881altdorf.de
SUMMARY:Baseball – Game 12 – Memmelsdorf Barons 2 vs. Altdorf Icesharks – On the Road
DESCRIPTION:Play Ball in Memmelsdorf \nAm Sam­stag\, den 22. August ab 14.00 Uhr sind die Alt­dorf Ice­sharks bei den Mem­mels­dorf Barons zu Gast.\nIn der Lan­desklasse Base­ball Nord wer­den Sin­glegames über 7 Innings  (oder mit max­i­malem Zeitlim­it von 2\,5 Stun­den) gespielt. \n  \n  \n  \nLinks: \nAlt­dorf Ice­sharks Ballpark \nSpielplan 2026 \nTabelle 2026 \nIce­sharks on Instagram \nMem­mels­dorf Barons on Instagram \n  \n \n  \n  \n  \n  \n  \n 
URL:https://tv1881altdorf.de/event/baseball-game-12-memmelsdorf-barons-2-vs-altdorf-icesharks-on-the-road-2
LOCATION:Memmelsdorf Barons Ballpark\, Pödeldorfer Str.\, Memmelsdorf\, 96117
CATEGORIES:Baseball,Landesklasse Baseball Nord
ATTACH;FMTTYPE=image/jpeg:https://tv1881altdorf.de/wp-content/uploads/2026/03/IMG_0237_mod02_weich_WEB.jpg
END:VEVENT
BEGIN:VEVENT
DTSTART;VALUE=DATE:20260905
DTEND;VALUE=DATE:20260906
DTSTAMP:20260423T011022
CREATED:20260323T163640Z
LAST-MODIFIED:20260323T163746Z
UID:28833-1788566400-1788652799@tv1881altdorf.de
SUMMARY:Mixed Fun Softballteam – Turnier in Amberg
DESCRIPTION:  \nMixed Fun Softballteam \n 
URL:https://tv1881altdorf.de/event/mixed-fun-softballteam-turnier-in-amberg
CATEGORIES:Baseball,Mixed Fun Softballteam
ATTACH;FMTTYPE=image/jpeg:https://tv1881altdorf.de/wp-content/uploads/2025/08/WhatsApp-Image-2025-08-08-at-22.29.01_WEB.jpg
END:VEVENT
BEGIN:VEVENT
DTSTART;TZID=Europe/Berlin:20260906T083000
DTEND;TZID=Europe/Berlin:20260906T170000
DTSTAMP:20260423T011022
CREATED:20251127T173836Z
LAST-MODIFIED:20251127T173836Z
UID:26589-1788683400-1788714000@tv1881altdorf.de
SUMMARY:Fränkischer Schweiz Marathon (mit bayerischer Halbmarathonmeisterschaft) in Ebermannstadt
DESCRIPTION:Dis­tanzen 10 km\, Halb­marathon 21\,1 km und Marathon 42\,2 km\,\nStart ab 8:30 Uhr Ortsmitte Ebermannstadt
URL:https://tv1881altdorf.de/event/fraenkischer-schweiz-marathon-mit-bayerischer-halbmarathonmeisterschaft-in-ebermannstadt
CATEGORIES:Lauftreff
END:VEVENT
BEGIN:VEVENT
DTSTART;TZID=Europe/Berlin:20260919T160000
DTEND;TZID=Europe/Berlin:20260919T180000
DTSTAMP:20260423T011022
CREATED:20260124T231818Z
LAST-MODIFIED:20260124T231818Z
UID:27702-1789833600-1789840800@tv1881altdorf.de
SUMMARY:Ju-Jutsu - Trainer und Motto Training
DESCRIPTION:offenes Vere­in­strain­ing ohne Kyu-Beschränkung. \nThe­ma: \nAnschließend ab ca. 18:30 Uhr gemütlich­es Beisam­men­sein (wo entschei­den wir noch)
URL:https://tv1881altdorf.de/event/ju-jutsu-trainer-und-motto-training-3
LOCATION:Judo und Gymnastikhalle\, TV 1881 Altdorf e.V.\, Heumannstrasse 5a\, Altdorf\, 90518\, Germany
CATEGORIES:Judo und Ju-Jutsu
END:VEVENT
BEGIN:VEVENT
DTSTART;VALUE=DATE:20260926
DTEND;VALUE=DATE:20260927
DTSTAMP:20260423T011022
CREATED:20251212T094802Z
LAST-MODIFIED:20251218T071523Z
UID:26899-1790380800-1790467199@tv1881altdorf.de
SUMMARY:BRL / 7. BayernCup-OL 2026 (Mittel-OL)
DESCRIPTION:siehe hier
URL:https://tv1881altdorf.de/event/brl-7-bayerncup-ol-2026-mittel-ol
CATEGORIES:Orientierungslauf
ATTACH;FMTTYPE=image/jpeg:https://tv1881altdorf.de/wp-content/uploads/2025/05/OL250712_01.jpeg
END:VEVENT
BEGIN:VEVENT
DTSTART;VALUE=DATE:20260926
DTEND;VALUE=DATE:20260927
DTSTAMP:20260423T011022
CREATED:20251212T095605Z
LAST-MODIFIED:20251218T071438Z
UID:26903-1790380800-1790467199@tv1881altdorf.de
SUMMARY:Altdorfer Nacht-Sprint
DESCRIPTION:siehe hier
URL:https://tv1881altdorf.de/event/altdorfer-nacht-sprint-2026
CATEGORIES:Orientierungslauf
END:VEVENT
BEGIN:VEVENT
DTSTART;VALUE=DATE:20260927
DTEND;VALUE=DATE:20260928
DTSTAMP:20260423T011022
CREATED:20251212T095952Z
LAST-MODIFIED:20251218T071507Z
UID:26906-1790467200-1790553599@tv1881altdorf.de
SUMMARY:Bayerische Meisterschaft Staffel
DESCRIPTION:siehe hier
URL:https://tv1881altdorf.de/event/bayerische-meisterschaft-staffel-2026
CATEGORIES:Orientierungslauf
END:VEVENT
BEGIN:VEVENT
DTSTART;TZID=Europe/Berlin:20261018T083000
DTEND;TZID=Europe/Berlin:20261018T160000
DTSTAMP:20260423T011022
CREATED:20260124T233010Z
LAST-MODIFIED:20260124T233010Z
UID:27709-1792312200-1792339200@tv1881altdorf.de
SUMMARY:Ju-Jutsu - Kyu Prüfung\, Vereinsübergreifend
DESCRIPTION:Mel­dung an JJVB über Armin Hausmann
URL:https://tv1881altdorf.de/event/ju-jutsu-kyu-pruefung-vereinsuebergreifend
LOCATION:Judo und Gymnastikhalle\, TV 1881 Altdorf e.V.\, Heumannstrasse 5a\, Altdorf\, 90518\, Germany
CATEGORIES:Judo und Ju-Jutsu
END:VEVENT
BEGIN:VEVENT
DTSTART;TZID=Europe/Berlin:20261025T100000
DTEND;TZID=Europe/Berlin:20261025T170000
DTSTAMP:20260423T011022
CREATED:20251127T174348Z
LAST-MODIFIED:20251127T174348Z
UID:26591-1792922400-1792947600@tv1881altdorf.de
SUMMARY:Sport Scheck Lauf Nürnberg
DESCRIPTION:Dis­tanzen 6 km\, 10 km und Halb­marathon 21\,1 km\, Start am Rathaus Nürn­berg Haupt­markt ab 10:00 Uhr
URL:https://tv1881altdorf.de/event/sport-scheck-lauf-nuernberg
CATEGORIES:Lauftreff
END:VEVENT
BEGIN:VEVENT
DTSTART;VALUE=DATE:20261206
DTEND;VALUE=DATE:20261207
DTSTAMP:20260423T011022
CREATED:20260309T104358Z
LAST-MODIFIED:20260309T104506Z
UID:28532-1796515200-1796601599@tv1881altdorf.de
SUMMARY:8. Advents-4-Kampf
DESCRIPTION:Ort: Hersbruck \n 
URL:https://tv1881altdorf.de/event/advents-4-kampf-2026
CATEGORIES:Leichtathletik
END:VEVENT
BEGIN:VEVENT
DTSTART;TZID=Europe/Berlin:20261219T160000
DTEND;TZID=Europe/Berlin:20261219T180000
DTSTAMP:20260423T011022
CREATED:20260124T232023Z
LAST-MODIFIED:20260124T232023Z
UID:27704-1797696000-1797703200@tv1881altdorf.de
SUMMARY:Ju-Jutsu - Trainer und Motto Training mit Weihnachtsfeier
DESCRIPTION:offenes Vere­in­strain­ing ohne Kyu-Beschränkung. \nThe­ma: \nAnschließend ab ca. 18:30 Uhr gemütlich­es Beisam­men­sein (wo entschei­den wir noch)
URL:https://tv1881altdorf.de/event/ju-jutsu-trainer-und-motto-training-mit-weihnachtsfeier
LOCATION:Judo und Gymnastikhalle\, TV 1881 Altdorf e.V.\, Heumannstrasse 5a\, Altdorf\, 90518\, Germany
CATEGORIES:Judo und Ju-Jutsu
END:VEVENT
END:VCALENDAR